Workbook

Sheet Sheet1
B2: 2025년도 경기아트센터 비상임이사 활동내역 현황
B4: 회차 | E4: 안건 | G4: 의결 결과 | H4: 성명 및 출석률
C5: 개최일 | D5: 개최장소 | E5: 안건번호 | F5: 안건명 | H5: 김학민 | I5: 박래혁 | J5: 유정주 | K5: 강동구 | L5: 강은아 | M5: 김태현 | N5: 박희정 | O5: 신재홍 | P5: 오헨리 | Q5: 이덕규 | R5: 이상구 | S5: 임일진 | T5: 차수정 | U5: 김창희 | V5: 마성혁 | W5: 박대용 | X5: 손경미 | Y5: 정유란 | Z5: 황경선 | AA5: 최유경 | AB5: 강신범 | AC5: 김경록 | AD5: 김진오 | AE5: 문재숙 | AF5: 이덕형 | AG5: 이승태 | AH5: 김열수 | AI5: 계산용 회차
H6: =참석률계산!B15 -> 1 | I6: =참석률계산!C15 -> 0.55555556 | J6: =참석률계산!D15 -> 0.28571429 | K6: =참석률계산!E15 -> 1 | L6: =참석률계산!F15 -> 1 | M6: =참석률계산!G15 -> 1 | N6: =참석률계산!H15 -> 0.9 | O6: =참석률계산!I15 -> 0 | ... AH6: =참석률계산!AB15 -> 1
B7: 109 | C7: 2025.01.30. | D7: 서면결의 | E7: 제409호 | F7: 2025년 경기아트센터 제1차 추가경정예산(안) | G7: 원안의결 | H7: 찬성 | I7: 임명 전 | J7: 임명 전 | K7: 찬성 | L7: 찬성 | M7: 찬성 | N7: 찬성 | O7: - | P7: 찬성 | Q7: 찬성 | R7: 찬성 | S7: 찬성 | T7: 찬성 | U7: 임명 전 | V7: 임명 전 | W7: 임명 전 | X7: 임명 전 | Y7: 임명 전 | Z7: 임명 전 | AA7: 임명 전 | AB7: 임명 전 | AC7: 임명 전 | AD7: 임명 전 | AE7: 임명 전 | AF7: 임명 전 | AG7: 임명 전 | AH7: 임명 전 | AI7: =B7 -> 109
E8: 제410호 | F8: 2024년 경기아트센터 명시이월예산 정정 | G8: 원안의결 | H8: 찬성 | I8: 임명 전 | J8: 임명 전 | K8: 찬성 | L8: 찬성 | M8: 찬성 | N8: 찬성 | O8: - | P8: 찬성 | Q8: 찬성 | R8: 찬성 | S8: 찬성 | T8: 찬성 | U8: 임명 전 | V8: 임명 전 | W8: 임명 전 | X8: 임명 전 | Y8: 임명 전 | Z8: 임명 전 | AA8: 임명 전 | AB8: 임명 전 | AC8: 임명 전 | AD8: 임명 전 | AE8: 임명 전 | AF8: 임명 전 | AG8: 임명 전 | AH8: 임명 전 | AI8: =IF(B8<>"",B8,AI7) -> 109
B9: 110 | C9: 2025.02.27. | D9: 서면결의 | E9: 제411호 | F9: 2025년 경기아트센터 제1차 추가경정예산(안) | G9: 원안의결 | H9: 찬성 | I9: 찬성 | J9: 임명 전 | K9: 퇴직 | L9: 퇴직 | M9: 퇴직 | N9: 퇴직 | O9: 퇴직 | P9: 퇴직 | Q9: 퇴직 | R9: 퇴직 | S9: 퇴직 | T9: 퇴직 | U9: 임명 전 | V9: 임명 전 | W9: 임명 전 | X9: 임명 전 | Y9: 임명 전 | Z9: 임명 전 | AA9: 임명 전 | AB9: 임명 전 | AC9: 임명 전 | AD9: 임명 전 | AE9: 임명 전 | AF9: 임명 전 | AG9: 임명 전 | AH9: 임명 전 | AI9: =IF(B9<>"",B9,AI8) -> 110
E10: 제412호 | F10: 2024년 경기아트센터 법인결산 수정(안) | G10: 원안의결 | H10: 찬성 | I10: 찬성 | J10: 임명 전 | K10: 찬성 | L10: 퇴직 | M10: 퇴직 | N10: 찬성 | O10: 퇴직 | P10: 퇴직 | Q10: 친성 | R10: 퇴직 | S10: 퇴직 | T10: 퇴직 | U10: 찬성 | V10: 찬성 | W10: 찬성 | X10: 찬성 | Y10: 찬성 | Z10: 찬성 | AA10: 찬성 | AB10: 임명 전 | AC10: 임명 전 | AD10: 임명 전 | AE10: 임명 전 | AF10: 임명 전 | AG10: 임명 전 | AH10: 임명 전 | AI10: =IF(B10<>"",B10,AI9) -> 110
B11: 111 | C11: 2025.03.27. | D11: 도움관 회의실 | E11: 제413호 | F11: 2025년 경기아트센터 제2차 추가경정예산(안) | G11: 원안의결 | H11: 찬성 | I11: 찬성 | J11: 임명 전 | K11: 찬성 | L11: 퇴직 | M11: 퇴직 | N11: 찬성 | O11: 퇴직 | P11: 퇴직 | Q11: 친성 | R11: 퇴직 | S11: 퇴직 | T11: 퇴직 | U11: 찬성 | V11: 찬성 | W11: 찬성 | X11: 찬성 | Y11: 찬성 | Z11: 찬성 | AA11: 찬성 | AB11: 임명 전 | AC11: 임명 전 | AD11: 임명 전 | AE11: 임명 전 | AF11: 임명 전 | AG11: 임명 전 | AH11: 임명 전 | AI11: =IF(B11<>"",B11,AI10) -> 111
B12: 112 | C12: 2025.06.10. | D12: 서면결의 | E12: 제414호 | F12: 경기아트센터 취업규정 일부개정(안) | G12: 원안의결 | H12: 찬성 | I12: 찬성 | J12: - | K12: 찬성 | L12: 퇴직 | M12: 퇴직 | N12: 찬성 | O12: 퇴직 | P12: 퇴직 | Q12: 찬성 | R12: 퇴직 | S12: 퇴직 | T12: 퇴직 | U12: 찬성 | V12: 찬성 | W12: 찬성 | X12: 찬성 | Y12: 찬성 | Z12: 찬성 | AA12: 찬성 | AB12: 임명 전 | AC12: 임명 전 | AD12: 임명 전 | AE12: 임명 전 | AF12: 임명 전 | AG12: 임명 전 | AH12: 임명 전 | AI12: =IF(B12<>"",B12,AI11) -> 112
E13: 제415호 | F13: 경기도예술단 운영규정 일부개정(안) | G13: 원안의결 | H13: 찬성 | I13: 찬성 | J13: - | K13: 찬성 | L13: 퇴직 | M13: 퇴직 | N13: 찬성 | O13: 퇴직 | P13: 퇴직 | Q13: 찬성 | R13: 퇴직 | S13: 퇴직 | T13: 퇴직 | U13: 찬성 | V13: 찬성 | W13: 찬성 | X13: 찬성 | Y13: 찬성 | Z13: 찬성 | AA13: 찬성 | AB13: 임명 전 | AC13: 임명 전 | AD13: 임명 전 | AE13: 임명 전 | AF13: 임명 전 | AG13: 임명 전 | AH13: 임명 전 | AI13: =IF(B13<>"",B13,AI12) -> 112
E14: 제416호 | F14: 경기아트센터 공무직 관리규정 일부개정(안) | G14: 원안의결 | H14: 찬성 | I14: 찬성 | J14: - | K14: 찬성 | L14: 퇴직 | M14: 퇴직 | N14: 찬성 | O14: 퇴직 | P14: 퇴직 | Q14: 찬성 | R14: 퇴직 | S14: 퇴직 | T14: 퇴직 | U14: 찬성 | V14: 찬성 | W14: 찬성 | X14: 찬성 | Y14: 찬성 | Z14: 찬성 | AA14: 찬성 | AB14: 임명 전 | AC14: 임명 전 | AD14: 임명 전 | AE14: 임명 전 | AF14: 임명 전 | AG14: 임명 전 | AH14: 임명 전 | AI14: =IF(B14<>"",B14,AI13) -> 112
E15: 제417호 | F15: 경기아트센터 인사규정 일부개정(안) | G15: 원안의결 | H15: 찬성 | I15: 찬성 | J15: - | K15: 찬성 | L15: 퇴직 | M15: 퇴직 | N15: 찬성 | O15: 퇴직 | P15: 퇴직 | Q15: 찬성 | R15: 퇴직 | S15: 퇴직 | T15: 퇴직 | U15: 찬성 | V15: 찬성 | W15: 찬성 | X15: 찬성 | Y15: 찬성 | Z15: 찬성 | AA15: 찬성 | AB15: 임명 전 | AC15: 임명 전 | AD15: 임명 전 | AE15: 임명 전 | AF15: 임명 전 | AG15: 임명 전 | AH15: 임명 전 | AI15: =IF(B15<>"",B15,AI14) -> 112
B16: 113 | C16: 2025.07.03 | D16: 도움관 회의실 | E16: 제418호 | F16: 경기아트센터 정관 일부개정(안) | G16: 원안의결 | H16: 찬성 | I16: 찬성 | J16: - | K16: 찬성 | L16: 퇴직 | M16: 퇴직 | N16: 찬성 | O16: 퇴직 | P16: 퇴직 | Q16: 찬성 | R16: 퇴직 | S16: 퇴직 | T16: 퇴직 | U16: 찬성 | V16: - | W16: 찬성 | X16: 찬성 | Y16: - | Z16: - | AA16: 찬성 | AB16: 임명 전 | AC16: 임명 전 | AD16: 임명 전 | AE16: 임명 전 | AF16: 임명 전 | AG16: 임명 전 | AH16: 임명 전 | AI16: =IF(B16<>"",B16,AI15) -> 113
E17: 제419호 | F17: 경기아트센터 직제 및 정원규정 일부개정(안) | G17: 원안의결 | H17: 찬성 | I17: 찬성 | J17: - | K17: 찬성 | L17: 퇴직 | M17: 퇴직 | N17: 찬성 | O17: 퇴직 | P17: 퇴직 | Q17: 찬성 | R17: 퇴직 | S17: 퇴직 | T17: 퇴직 | U17: 찬성 | V17: - | W17: 찬성 | X17: 찬성 | Y17: - | Z17: - | AA17: 찬성 | AB17: 임명 전 | AC17: 임명 전 | AD17: 임명 전 | AE17: 임명 전 | AF17: 임명 전 | AG17: 임명 전 | AH17: 임명 전 | AI17: =IF(B17<>"",B17,AI16) -> 113
E18: 제420호 | F18: 물품관리규정 일부개정(안) | G18: 원안의결 | H18: 찬성 | I18: 찬성 | J18: - | K18: 찬성 | L18: 퇴직 | M18: 퇴직 | N18: 찬성 | O18: 퇴직 | P18: 퇴직 | Q18: 찬성 | R18: 퇴직 | S18: 퇴직 | T18: 퇴직 | U18: 찬성 | V18: - | W18: 찬성 | X18: 찬성 | Y18: - | Z18: - | AA18: 찬성 | AB18: 임명 전 | AC18: 임명 전 | AD18: 임명 전 | AE18: 임명 전 | AF18: 임명 전 | AG18: 임명 전 | AH18: 임명 전 | AI18: =IF(B18<>"",B18,AI17) -> 113
E19: 제421호 | F19: 기금관리규정 일부개정(안) | G19: 원안의결 | H19: 찬성 | I19: 찬성 | J19: - | K19: 찬성 | L19: 퇴직 | M19: 퇴직 | N19: 찬성 | O19: 퇴직 | P19: 퇴직 | Q19: 찬성 | R19: 퇴직 | S19: 퇴직 | T19: 퇴직 | U19: 찬성 | V19: - | W19: 찬성 | X19: 찬성 | Y19: - | Z19: - | AA19: 찬성 | AB19: 임명 전 | AC19: 임명 전 | AD19: 임명 전 | AE19: 임명 전 | AF19: 임명 전 | AG19: 임명 전 | AH19: 임명 전 | AI19: =IF(B19<>"",B19,AI18) -> 113
E20: 제422호 | F20: 경기아트센터 기부금품 운영 및 관리규정 제정(안) | G20: 원안의결 | H20: 찬성 | I20: 찬성 | J20: - | K20: 찬성 | L20: 퇴직 | M20: 퇴직 | N20: 찬성 | O20: 퇴직 | P20: 퇴직 | Q20: 찬성 | R20: 퇴직 | S20: 퇴직 | T20: 퇴직 | U20: 찬성 | V20: - | W20: 찬성 | X20: 찬성 | Y20: - | Z20: - | AA20: 찬성 | AB20: 임명 전 | AC20: 임명 전 | AD20: 임명 전 | AE20: 임명 전 | AF20: 임명 전 | AG20: 임명 전 | AH20: 임명 전 | AI20: =IF(B20<>"",B20,AI19) -> 113
E21: 제423호 | F21: 경기아트센터 임원추천위원회 위원 추천(안) | G21: 원안의결 | H21: 찬성 | I21: 찬성 | J21: - | K21: 찬성 | L21: 퇴직 | M21: 퇴직 | N21: 찬성 | O21: 퇴직 | P21: 퇴직 | Q21: 찬성 | R21: 퇴직 | S21: 퇴직 | T21: 퇴직 | U21: 찬성 | V21: - | W21: 찬성 | X21: 찬성 | Y21: - | Z21: - | AA21: 찬성 | AB21: 임명 전 | AC21: 임명 전 | AD21: 임명 전 | AE21: 임명 전 | AF21: 임명 전 | AG21: 임명 전 | AH21: 임명 전 | AI21: =IF(B21<>"",B21,AI20) -> 113
B22: 114 | C22: 2025.08.25. | D22: 서면결의 | E22: 제424호 | F22: 2025년 경기아트센터 제3차 추가경정예산(안) | G22: 원안의결 | H22: 찬성 | I22: - | J22: - | K22: 찬성 | L22: 퇴직 | M22: 퇴직 | N22: - | O22: 퇴직 | P22: 퇴직 | Q22: 찬성 | R22: 퇴직 | S22: 퇴직 | T22: 퇴직 | U22: 찬성 | V22: 찬성 | W22: 찬성 | X22: 찬성 | Y22: 찬성 | Z22: 찬성 | AA22: 찬성 | AB22: 임명 전 | AC22: 임명 전 | AD22: 임명 전 | AE22: 임명 전 | AF22: 임명 전 | AG22: 임명 전 | AH22: 임명 전 | AI22: =IF(B22<>"",B22,AI21) -> 114
B23: 115 | C23: 2025.09.26. | D23: 도움관 회의실 | E23: 제425호 | F23: 경기아트센터 직제 및 정원규정 일부개정(안) | G23: 원안의결 | H23: 찬성 | I23: - | J23: 찬성 | K23: 찬성 | L23: 퇴직 | M23: 퇴직 | N23: 찬성 | O23: 퇴직 | P23: 퇴직 | Q23: 찬성 | R23: 퇴직 | S23: 퇴직 | T23: 퇴직 | U23: - | V23: 찬성 | W23: - | X23: 찬성 | Y23: - | Z23: - | AA23: - | AB23: 임명 전 | AC23: 임명 전 | AD23: 임명 전 | AE23: 임명 전 | AF23: 임명 전 | AG23: 임명 전 | AH23: 임명 전 | AI23: =IF(B23<>"",B23,AI22) -> 115
E24: 제426호 | F24: 2025년 경기아트센터 제4회 추가경정예산(안) | G24: 원안의결 | H24: 찬성 | I24: - | J24: 찬성 | K24: 찬성 | L24: 퇴직 | M24: 퇴직 | N24: 찬성 | O24: 퇴직 | P24: 퇴직 | Q24: 찬성 | R24: 퇴직 | S24: 퇴직 | T24: 퇴직 | U24: - | V24: 찬성 | W24: - | X24: 찬성 | Y24: - | Z24: - | AA24: - | AB24: 임명 전 | AC24: 임명 전 | AD24: 임명 전 | AE24: 임명 전 | AF24: 임명 전 | AG24: 임명 전 | AH24: 임명 전 | AI24: =IF(B24<>"",B24,AI23) -> 115
E25: 제427호 | F25: 경기아트센터 임원추천위원회 위원 추천(안) | G25: 원안의결 | H25: 찬성 | I25: - | J25: 찬성 | K25: 찬성 | L25: 퇴직 | M25: 퇴직 | N25: 찬성 | O25: 퇴직 | P25: 퇴직 | Q25: 찬성 | R25: 퇴직 | S25: 퇴직 | T25: 퇴직 | U25: - | V25: 찬성 | W25: - | X25: 찬성 | Y25: - | Z25: - | AA25: - | AB25: 임명 전 | AC25: 임명 전 | AD25: 임명 전 | AE25: 임명 전 | AF25: 임명 전 | AG25: 임명 전 | AH25: 임명 전 | AI25: =IF(B25<>"",B25,AI24) -> 115
B26: 116 | C26: 2025.10.24. | D26: 도움관 회의실 | E26: 제428호 | F26: 가족수당 증액(안) | G26: 원안의결 | H26: 찬성 | I26: - | J26: 찬성 | K26: 찬성 | L26: 퇴직 | M26: 퇴직 | N26: 찬성 | O26: 퇴직 | P26: 퇴직 | Q26: 찬성 | R26: 퇴직 | S26: 퇴직 | T26: 퇴직 | U26: - | V26: - | W26: - | X26: 찬성 | Y26: - | Z26: 찬성 | AA26: 찬성 | AB26: 찬성 | AC26: - | AD26: 찬성 | AE26: - | AF26: 찬성 | AG26: 찬성 | AH26: 임명 전 | AI26: =IF(B26<>"",B26,AI25) -> 116
E27: 제429호 | F27: 특별휴가(새내기 휴가) 신설(안) | G27: 원안의결 | H27: 보류 | I27: - | J27: 보류 | K27: 보류 | L27: 퇴직 | M27: 퇴직 | N27: 보류 | O27: 퇴직 | P27: 퇴직 | Q27: 보류 | R27: 퇴직 | S27: 퇴직 | T27: 퇴직 | U27: - | V27: - | W27: - | X27: 보류 | Y27: - | Z27: 보류 | AA27: 보류 | AB27: 보류 | AC27: - | AD27: 보류 | AE27: - | AF27: 보류 | AG27: 보류 | AH27: 임명 전 | AI27: =IF(B27<>"",B27,AI26) -> 116
E28: 제430호 | F28: 경기아트센터 공무직 관리규정 일부개정(안) | G28: 원안의결 | H28: 찬성 | I28: - | J28: 찬성 | K28: 찬성 | L28: 퇴직 | M28: 퇴직 | N28: 찬성 | O28: 퇴직 | P28: 퇴직 | Q28: 찬성 | R28: 퇴직 | S28: 퇴직 | T28: 퇴직 | U28: - | V28: - | W28: - | X28: 찬성 | Y28: - | Z28: 찬성 | AA28: 찬성 | AB28: 찬성 | AC28: - | AD28: 찬성 | AE28: - | AF28: 찬성 | AG28: 찬성 | AH28: 임명 전 | AI28: =IF(B28<>"",B28,AI27) -> 116
E29: 제431호 | F29: 2025년 경기아트센터 제5회 추가경정예산(안) | G29: 원안의결 | H29: 찬성 | I29: - | J29: 찬성 | K29: 찬성 | L29: 퇴직 | M29: 퇴직 | N29: 찬성 | O29: 퇴직 | P29: 퇴직 | Q29: 찬성 | R29: 퇴직 | S29: 퇴직 | T29: 퇴직 | U29: - | V29: - | W29: - | X29: 찬성 | Y29: - | Z29: 찬성 | AA29: 찬성 | AB29: 찬성 | AC29: - | AD29: 찬성 | AE29: - | AF29: 찬성 | AG29: 찬성 | AH29: 임명 전 | AI29: =IF(B29<>"",B29,AI28) -> 116
B30: 117 | C30: 2025.12.16. | D30: 서면결의 | E30: 제432호 | F30: 2025년 경기아트센터 제6회 추가경정예산(안) | G30: 원안의결 | H30: 퇴직 | I30: 찬성 | J30: - | K30: 찬성 | L30: 퇴직 | M30: 퇴직 | N30: 찬성 | O30: 퇴직 | P30: 퇴직 | Q30: 찬성 | R30: 퇴직 | S30: 퇴직 | T30: 퇴직 | U30: 찬성 | V30: 찬성 | W30: 찬성 | X30: 찬성 | Y30: 찬성 | Z30: 찬성 | AA30: 찬성 | AB30: 찬성 | AC30: 찬성 | AD30: 찬성 | AE30: 찬성 | AF30: 찬성 | AG30: 찬성 | AH30: 찬성 | AI30: =IF(B30<>"",B30,AI29) -> 117
B31: 118 | C31: 2025.12.30. | D31: 도움관 회의실 | E31: 제433호 | F31: 경기아트센터 보수규정 일부개정(안) | G31: 원안의결 | H31: 퇴직 | I31: - | J31: - | K31: 찬성 | L31: 퇴직 | M31: 퇴직 | N31: 찬성 | O31: 퇴직 | P31: 퇴직 | Q31: 찬성 | R31: 퇴직 | S31: 퇴직 | T31: 퇴직 | U31: 찬성 | V31: 찬성 | W31: - | X31: 찬성 | Y31: 찬성 | Z31: 찬성 | AA31: 퇴직 | AB31: 찬성 | AC31: - | AD31: 찬성 | AE31: 찬성 | AF31: 찬성 | AG31: 찬성 | AH31: 찬성 | AI31: =IF(B31<>"",B31,AI30) -> 118
E32: 제434호 | F32: 2026년 경기아트센터 사업계획 및 수입·지출 예산(안) | G32: 원안의결 | H32: 퇴직 | I32: - | J32: - | K32: 찬성 | L32: 퇴직 | M32: 퇴직 | N32: 찬성 | O32: 퇴직 | P32: 퇴직 | Q32: 찬성 | R32: 퇴직 | S32: 퇴직 | T32: 퇴직 | U32: 찬성 | V32: 찬성 | W32: - | X32: 찬성 | Y32: 찬성 | Z32: 찬성 | AA32: 퇴직 | AB32: 찬성 | AC32: - | AD32: 찬성 | AE32: 찬성 | AF32: 찬성 | AG32: 찬성 | AH32: 찬성

Sheet 참석률계산
A1: 회차 | B1: 김학민 | C1: 박래혁 | D1: 유정주 | E1: 강동구 | F1: 강은아 | G1: 김태현 | H1: 박희정 | I1: 신재홍 | J1: 오헨리 | K1: 이덕규 | L1: 이상구 | M1: 임일진 | N1: 차수정 | O1: 김창희 | P1: 마성혁 | Q1: 박대용 | R1: 손경미 | S1: 정유란 | T1: 황경선 | U1: 최유경 | V1: 강신범 | W1: 김경록 | X1: 김진오 | Y1: 문재숙 | Z1: 이덕형 | AA1: 이승태 | AB1: 김열수
A2: 109 | B2: =IF(COUNTIFS(Sheet1!$AI$7:$AI$31,$A2,Sheet1!$H$7:$H$31,"<>임명 전",Sheet1!$H$7:$H$31,"<>퇴직")=0,"제외",IF(COUNTIFS(Sheet1!$AI$7:$AI$31,$A2,Sheet1!$H$7:$H$31,"<>임명 전",Sheet1!$H$7:$H$31,"<>퇴직",Sheet1!$H$7:$H$31,"<>-")>0,"참석","불참")) -> 참석 | C2: =IF(COUNTIFS(Sheet1!$AI$7:$AI$31,$A2,Sheet1!$I$7:$I$31,"<>임명 전",Sheet1!$I$7:$I$31,"<>퇴직")=0,"제외",IF(COUNTIFS(Sheet1!$AI$7:$AI$31,$A2,Sheet1!$I$7:$I$31,"<>임명 전",Sheet1!$I$7:$I$31,"<>퇴직",Sheet1!$I$7:$I$31,"<>-")>0,"참석","불참")) -> 제외 | D2: =IF(COUNTIFS(Sheet1!$AI$7:$AI$31,$A2,Sheet1!$J$7:$J$31,"<>임명 전",Sheet1!$J$7:$J$31,"<>퇴직")=0,"제외",IF(COUNTIFS(Sheet1!$AI$7:$AI$31,$A2,Sheet1!$J$7:$J$31,"<>임명 전",Sheet1!$J$7:$J$31,"<>퇴직",Sheet1!$J$7:$J$31,"<>-")>0,"참석","불참")) -> 제외 | E2: =IF(COUNTIFS(Sheet1!$AI$7:$AI$31,$A2,Sheet1!$K$7:$K$31,"<>임명 전",Sheet1!$K$7:$K$31,"<>퇴직")=0,"제외",IF(COUNTIFS(Sheet1!$AI$7:$AI$31,$A2,Sheet1!$K$7:$K$31,"<>임명 전",Sheet1!$K$7:$K$31,"<>퇴직",Sheet1!$K$7:$K$31,"<>-")>0,"참석","불참")) -> 참석 | F2: =IF(COUNTIFS(Sheet1!$AI$7:$AI$31,$A2,Sheet1!$L$7:$L$31,"<>임명 전",Sheet1!$L$7:$L$31,"<>퇴직")=0,"제외",IF(COUNTIFS(Sheet1!$AI$7:$AI$31,$A2,Sheet1!$L$7:$L$31,"<>임명 전",Sheet1!$L$7:$L$31,"<>퇴직",Sheet1!$L$7:$L$31,"<>-")>0,"참석","불참")) -> 참석 | G2: =IF(COUNTIFS(Sheet1!$AI$7:$AI$31,$A2,Sheet1!$M$7:$M$31,"<>임명 전",Sheet1!$M$7:$M$31,"<>퇴직")=0,"제외",IF(COUNTIFS(Sheet1!$AI$7:$AI$31,$A2,Sheet1!$M$7:$M$31,"<>임명 전",Sheet1!$M$7:$M$31,"<>퇴직",Sheet1!$M$7:$M$31,"<>-")>0,"참석","불참")) -> 참석 | H2: =IF(COUNTIFS(Sheet1!$AI$7:$AI$31,$A2,Sheet1!$N$7:$N$31,"<>임명 전",Sheet1!$N$7:$N$31,"<>퇴직")=0,"제외",IF(COUNTIFS(Sheet1!$AI$7:$AI$31,$A2,Sheet1!$N$7:$N$31,"<>임명 전",Sheet1!$N$7:$N$31,"<>퇴직",Sheet1!$N$7:$N$31,"<>-")>0,"참석","불참")) -> 참석 | I2: =IF(COUNTIFS(Sheet1!$AI$7:$AI$31,$A2,Sheet1!$O$7:$O$31,"<>임명 전",Sheet1!$O$7:$O$31,"<>퇴직")=0,"제외",IF(COUNTIFS(Sheet1!$AI$7:$AI$31,$A2,Sheet1!$O$7:$O$31,"<>임명 전",Sheet1!$O$7:$O$31,"<>퇴직",Sheet1!$O$7:$O$31,"<>-")>0,"참석","불참")) -> 불참 | J2: =IF(COUNTIFS(Sheet1!$AI$7:$AI$31,$A2,Sheet1!$P$7:$P$31,"<>임명 전",Sheet1!$P$7:$P$31,"<>퇴직")=0,"제외",IF(COUNTIFS(Sheet1!$AI$7:$AI$31,$A2,Sheet1!$P$7:$P$31,"<>임명 전",Sheet1!$P$7:$P$31,"<>퇴직",Sheet1!$P$7:$P$31,"<>-")>0,"참석","불참")) -> 참석 | K2: =IF(COUNTIFS(Sheet1!$AI$7:$AI$31,$A2,Sheet1!$Q$7:$Q$31,"<>임명 전",Sheet1!$Q$7:$Q$31,"<>퇴직")=0,"제외",IF(COUNTIFS(Sheet1!$AI$7:$AI$31,$A2,Sheet1!$Q$7:$Q$31,"<>임명 전",Sheet1!$Q$7:$Q$31,"<>퇴직",Sheet1!$Q$7:$Q$31,"<>-")>0,"참석","불참")) -> 참석 | L2: =IF(COUNTIFS(Sheet1!$AI$7:$AI$31,$A2,Sheet1!$R$7:$R$31,"<>임명 전",Sheet1!$R$7:$R$31,"<>퇴직")=0,"제외",IF(COUNTIFS(Sheet1!$AI$7:$AI$31,$A2,Sheet1!$R$7:$R$31,"<>임명 전",Sheet1!$R$7:$R$31,"<>퇴직",Sheet1!$R$7:$R$31,"<>-")>0,"참석","불참")) -> 참석 | M2: =IF(COUNTIFS(Sheet1!$AI$7:$AI$31,$A2,Sheet1!$S$7:$S$31,"<>임명 전",Sheet1!$S$7:$S$31,"<>퇴직")=0,"제외",IF(COUNTIFS(Sheet1!$AI$7:$AI$31,$A2,Sheet1!$S$7:$S$31,"<>임명 전",Sheet1!$S$7:$S$31,"<>퇴직",Sheet1!$S$7:$S$31,"<>-")>0,"참석","불참")) -> 참석 | N2: =IF(COUNTIFS(Sheet1!$AI$7:$AI$31,$A2,Sheet1!$T$7:$T$31,"<>임명 전",Sheet1!$T$7:$T$31,"<>퇴직")=0,"제외",IF(COUNTIFS(Sheet1!$AI$7:$AI$31,$A2,Sheet1!$T$7:$T$31,"<>임명 전",Sheet1!$T$7:$T$31,"<>퇴직",Sheet1!$T$7:$T$31,"<>-")>0,"참석","불참")) -> 참석 | O2: =IF(COUNTIFS(Sheet1!$AI$7:$AI$31,$A2,Sheet1!$U$7:$U$31,"<>임명 전",Sheet1!$U$7:$U$31,"<>퇴직")=0,"제외",IF(COUNTIFS(Sheet1!$AI$7:$AI$31,$A2,Sheet1!$U$7:$U$31,"<>임명 전",Sheet1!$U$7:$U$31,"<>퇴직",Sheet1!$U$7:$U$31,"<>-")>0,"참석","불참")) -> 제외 | P2: =IF(COUNTIFS(Sheet1!$AI$7:$AI$31,$A2,Sheet1!$V$7:$V$31,"<>임명 전",Sheet1!$V$7:$V$31,"<>퇴직")=0,"제외",IF(COUNTIFS(Sheet1!$AI$7:$AI$31,$A2,Sheet1!$V$7:$V$31,"<>임명 전",Sheet1!$V$7:$V$31,"<>퇴직",Sheet1!$V$7:$V$31,"<>-")>0,"참석","불참")) -> 제외 | Q2: =IF(COUNTIFS(Sheet1!$AI$7:$AI$31,$A2,Sheet1!$W$7:$W$31,"<>임명 전",Sheet1!$W$7:$W$31,"<>퇴직")=0,"제외",IF(COUNTIFS(Sheet1!$AI$7:$AI$31,$A2,Sheet1!$W$7:$W$31,"<>임명 전",Sheet1!$W$7:$W$31,"<>퇴직",Sheet1!$W$7:$W$31,"<>-")>0,"참석","불참")) -> 제외 | R2: =IF(COUNTIFS(Sheet1!$AI$7:$AI$31,$A2,Sheet1!$X$7:$X$31,"<>임명 전",Sheet1!$X$7:$X$31,"<>퇴직")=0,"제외",IF(COUNTIFS(Sheet1!$AI$7:$AI$31,$A2,Sheet1!$X$7:$X$31,"<>임명 전",Sheet1!$X$7:$X$31,"<>퇴직",Sheet1!$X$7:$X$31,"<>-")>0,"참석","불참")) -> 제외 | S2: =IF(COUNTIFS(Sheet1!$AI$7:$AI$31,$A2,Sheet1!$Y$7:$Y$31,"<>임명 전",Sheet1!$Y$7:$Y$31,"<>퇴직")=0,"제외",IF(COUNTIFS(Sheet1!$AI$7:$AI$31,$A2,Sheet1!$Y$7:$Y$31,"<>임명 전",Sheet1!$Y$7:$Y$31,"<>퇴직",Sheet1!$Y$7:$Y$31,"<>-")>0,"참석","불참")) -> 제외 | T2: =IF(COUNTIFS(Sheet1!$AI$7:$AI$31,$A2,Sheet1!$Z$7:$Z$31,"<>임명 전",Sheet1!$Z$7:$Z$31,"<>퇴직")=0,"제외",IF(COUNTIFS(Sheet1!$AI$7:$AI$31,$A2,Sheet1!$Z$7:$Z$31,"<>임명 전",Sheet1!$Z$7:$Z$31,"<>퇴직",Sheet1!$Z$7:$Z$31,"<>-")>0,"참석","불참")) -> 제외 | U2: =IF(COUNTIFS(Sheet1!$AI$7:$AI$31,$A2,Sheet1!$AA$7:$AA$31,"<>임명 전",Sheet1!$AA$7:$AA$31,"<>퇴직")=0,"제외",IF(COUNTIFS(Sheet1!$AI$7:$AI$31,$A2,Sheet1!$AA$7:$AA$31,"<>임명 전",Sheet1!$AA$7:$AA$31,"<>퇴직",Sheet1!$AA$7:$AA$31,"<>-")>0,"참석","불참")) -> 제외 | V2: =IF(COUNTIFS(Sheet1!$AI$7:$AI$31,$A2,Sheet1!$AB$7:$AB$31,"<>임명 전",Sheet1!$AB$7:$AB$31,"<>퇴직")=0,"제외",IF(COUNTIFS(Sheet1!$AI$7:$AI$31,$A2,Sheet1!$AB$7:$AB$31,"<>임명 전",Sheet1!$AB$7:$AB$31,"<>퇴직",Sheet1!$AB$7:$AB$31,"<>-")>0,"참석","불참")) -> 제외 | W2: =IF(COUNTIFS(Sheet1!$AI$7:$AI$31,$A2,Sheet1!$AC$7:$AC$31,"<>임명 전",Sheet1!$AC$7:$AC$31,"<>퇴직")=0,"제외",IF(COUNTIFS(Sheet1!$AI$7:$AI$31,$A2,Sheet1!$AC$7:$AC$31,"<>임명 전",Sheet1!$AC$7:$AC$31,"<>퇴직",Sheet1!$AC$7:$AC$31,"<>-")>0,"참석","불참")) -> 제외 | X2: =IF(COUNTIFS(Sheet1!$AI$7:$AI$31,$A2,Sheet1!$AD$7:$AD$31,"<>임명 전",Sheet1!$AD$7:$AD$31,"<>퇴직")=0,"제외",IF(COUNTIFS(Sheet1!$AI$7:$AI$31,$A2,Sheet1!$AD$7:$AD$31,"<>임명 전",Sheet1!$AD$7:$AD$31,"<>퇴직",Sheet1!$AD$7:$AD$31,"<>-")>0,"참석","불참")) -> 제외 | Y2: =IF(COUNTIFS(Sheet1!$AI$7:$AI$31,$A2,Sheet1!$AE$7:$AE$31,"<>임명 전",Sheet1!$AE$7:$AE$31,"<>퇴직")=0,"제외",IF(COUNTIFS(Sheet1!$AI$7:$AI$31,$A2,Sheet1!$AE$7:$AE$31,"<>임명 전",Sheet1!$AE$7:$AE$31,"<>퇴직",Sheet1!$AE$7:$AE$31,"<>-")>0,"참석","불참")) -> 제외 | Z2: =IF(COUNTIFS(Sheet1!$AI$7:$AI$31,$A2,Sheet1!$AF$7:$AF$31,"<>임명 전",Sheet1!$AF$7:$AF$31,"<>퇴직")=0,"제외",IF(COUNTIFS(Sheet1!$AI$7:$AI$31,$A2,Sheet1!$AF$7:$AF$31,"<>임명 전",Sheet1!$AF$7:$AF$31,"<>퇴직",Sheet1!$AF$7:$AF$31,"<>-")>0,"참석","불참")) -> 제외 | AA2: =IF(COUNTIFS(Sheet1!$AI$7:$AI$31,$A2,Sheet1!$AG$7:$AG$31,"<>임명 전",Sheet1!$AG$7:$AG$31,"<>퇴직")=0,"제외",IF(COUNTIFS(Sheet1!$AI$7:$AI$31,$A2,Sheet1!$AG$7:$AG$31,"<>임명 전",Sheet1!$AG$7:$AG$31,"<>퇴직",Sheet1!$AG$7:$AG$31,"<>-")>0,"참석","불참")) -> 제외 | AB2: =IF(COUNTIFS(Sheet1!$AI$7:$AI$31,$A2,Sheet1!$AH$7:$AH$31,"<>임명 전",Sheet1!$AH$7:$AH$31,"<>퇴직")=0,"제외",IF(COUNTIFS(Sheet1!$AI$7:$AI$31,$A2,Sheet1!$AH$7:$AH$31,"<>임명 전",Sheet1!$AH$7:$AH$31,"<>퇴직",Sheet1!$AH$7:$AH$31,"<>-")>0,"참석","불참")) -> 제외
A3: 110 | B3: =IF(COUNTIFS(Sheet1!$AI$7:$AI$31,$A3,Sheet1!$H$7:$H$31,"<>임명 전",Sheet1!$H$7:$H$31,"<>퇴직")=0,"제외",IF(COUNTIFS(Sheet1!$AI$7:$AI$31,$A3,Sheet1!$H$7:$H$31,"<>임명 전",Sheet1!$H$7:$H$31,"<>퇴직",Sheet1!$H$7:$H$31,"<>-")>0,"참석","불참")) -> 참석 | C3: =IF(COUNTIFS(Sheet1!$AI$7:$AI$31,$A3,Sheet1!$I$7:$I$31,"<>임명 전",Sheet1!$I$7:$I$31,"<>퇴직")=0,"제외",IF(COUNTIFS(Sheet1!$AI$7:$AI$31,$A3,Sheet1!$I$7:$I$31,"<>임명 전",Sheet1!$I$7:$I$31,"<>퇴직",Sheet1!$I$7:$I$31,"<>-")>0,"참석","불참")) -> 참석 | D3: =IF(COUNTIFS(Sheet1!$AI$7:$AI$31,$A3,Sheet1!$J$7:$J$31,"<>임명 전",Sheet1!$J$7:$J$31,"<>퇴직")=0,"제외",IF(COUNTIFS(Sheet1!$AI$7:$AI$31,$A3,Sheet1!$J$7:$J$31,"<>임명 전",Sheet1!$J$7:$J$31,"<>퇴직",Sheet1!$J$7:$J$31,"<>-")>0,"참석","불참")) -> 제외 | E3: =IF(COUNTIFS(Sheet1!$AI$7:$AI$31,$A3,Sheet1!$K$7:$K$31,"<>임명 전",Sheet1!$K$7:$K$31,"<>퇴직")=0,"제외",IF(COUNTIFS(Sheet1!$AI$7:$AI$31,$A3,Sheet1!$K$7:$K$31,"<>임명 전",Sheet1!$K$7:$K$31,"<>퇴직",Sheet1!$K$7:$K$31,"<>-")>0,"참석","불참")) -> 참석 | F3: =IF(COUNTIFS(Sheet1!$AI$7:$AI$31,$A3,Sheet1!$L$7:$L$31,"<>임명 전",Sheet1!$L$7:$L$31,"<>퇴직")=0,"제외",IF(COUNTIFS(Sheet1!$AI$7:$AI$31,$A3,Sheet1!$L$7:$L$31,"<>임명 전",Sheet1!$L$7:$L$31,"<>퇴직",Sheet1!$L$7:$L$31,"<>-")>0,"참석","불참")) -> 제외 | G3: =IF(COUNTIFS(Sheet1!$AI$7:$AI$31,$A3,Sheet1!$M$7:$M$31,"<>임명 전",Sheet1!$M$7:$M$31,"<>퇴직")=0,"제외",IF(COUNTIFS(Sheet1!$AI$7:$AI$31,$A3,Sheet1!$M$7:$M$31,"<>임명 전",Sheet1!$M$7:$M$31,"<>퇴직",Sheet1!$M$7:$M$31,"<>-")>0,"참석","불참")) -> 제외 | H3: =IF(COUNTIFS(Sheet1!$AI$7:$AI$31,$A3,Sheet1!$N$7:$N$31,"<>임명 전",Sheet1!$N$7:$N$31,"<>퇴직")=0,"제외",IF(COUNTIFS(Sheet1!$AI$7:$AI$31,$A3,Sheet1!$N$7:$N$31,"<>임명 전",Sheet1!$N$7:$N$31,"<>퇴직",Sheet1!$N$7:$N$31,"<>-")>0,"참석","불참")) -> 참석 | I3: =IF(COUNTIFS(Sheet1!$AI$7:$AI$31,$A3,Sheet1!$O$7:$O$31,"<>임명 전",Sheet1!$O$7:$O$31,"<>퇴직")=0,"제외",IF(COUNTIFS(Sheet1!$AI$7:$AI$31,$A3,Sheet1!$O$7:$O$31,"<>임명 전",Sheet1!$O$7:$O$31,"<>퇴직",Sheet1!$O$7:$O$31,"<>-")>0,"참석","불참")) -> 제외 | J3: =IF(COUNTIFS(Sheet1!$AI$7:$AI$31,$A3,Sheet1!$P$7:$P$31,"<>임명 전",Sheet1!$P$7:$P$31,"<>퇴직")=0,"제외",IF(COUNTIFS(Sheet1!$AI$7:$AI$31,$A3,Sheet1!$P$7:$P$31,"<>임명 전",Sheet1!$P$7:$P$31,"<>퇴직",Sheet1!$P$7:$P$31,"<>-")>0,"참석","불참")) -> 제외 | K3: =IF(COUNTIFS(Sheet1!$AI$7:$AI$31,$A3,Sheet1!$Q$7:$Q$31,"<>임명 전",Sheet1!$Q$7:$Q$31,"<>퇴직")=0,"제외",IF(COUNTIFS(Sheet1!$AI$7:$AI$31,$A3,Sheet1!$Q$7:$Q$31,"<>임명 전",Sheet1!$Q$7:$Q$31,"<>퇴직",Sheet1!$Q$7:$Q$31,"<>-")>0,"참석","불참")) -> 참석 | L3: =IF(COUNTIFS(Sheet1!$AI$7:$AI$31,$A3,Sheet1!$R$7:$R$31,"<>임명 전",Sheet1!$R$7:$R$31,"<>퇴직")=0,"제외",IF(COUNTIFS(Sheet1!$AI$7:$AI$31,$A3,Sheet1!$R$7:$R$31,"<>임명 전",Sheet1!$R$7:$R$31,"<>퇴직",Sheet1!$R$7:$R$31,"<>-")>0,"참석","불참")) -> 제외 | M3: =IF(COUNTIFS(Sheet1!$AI$7:$AI$31,$A3,Sheet1!$S$7:$S$31,"<>임명 전",Sheet1!$S$7:$S$31,"<>퇴직")=0,"제외",IF(COUNTIFS(Sheet1!$AI$7:$AI$31,$A3,Sheet1!$S$7:$S$31,"<>임명 전",Sheet1!$S$7:$S$31,"<>퇴직",Sheet1!$S$7:$S$31,"<>-")>0,"참석","불참")) -> 제외 | N3: =IF(COUNTIFS(Sheet1!$AI$7:$AI$31,$A3,Sheet1!$T$7:$T$31,"<>임명 전",Sheet1!$T$7:$T$31,"<>퇴직")=0,"제외",IF(COUNTIFS(Sheet1!$AI$7:$AI$31,$A3,Sheet1!$T$7:$T$31,"<>임명 전",Sheet1!$T$7:$T$31,"<>퇴직",Sheet1!$T$7:$T$31,"<>-")>0,"참석","불참")) -> 제외 | O3: =IF(COUNTIFS(Sheet1!$AI$7:$AI$31,$A3,Sheet1!$U$7:$U$31,"<>임명 전",Sheet1!$U$7:$U$31,"<>퇴직")=0,"제외",IF(COUNTIFS(Sheet1!$AI$7:$AI$31,$A3,Sheet1!$U$7:$U$31,"<>임명 전",Sheet1!$U$7:$U$31,"<>퇴직",Sheet1!$U$7:$U$31,"<>-")>0,"참석","불참")) -> 참석 | P3: =IF(COUNTIFS(Sheet1!$AI$7:$AI$31,$A3,Sheet1!$V$7:$V$31,"<>임명 전",Sheet1!$V$7:$V$31,"<>퇴직")=0,"제외",IF(COUNTIFS(Sheet1!$AI$7:$AI$31,$A3,Sheet1!$V$7:$V$31,"<>임명 전",Sheet1!$V$7:$V$31,"<>퇴직",Sheet1!$V$7:$V$31,"<>-")>0,"참석","불참")) -> 참석 | Q3: =IF(COUNTIFS(Sheet1!$AI$7:$AI$31,$A3,Sheet1!$W$7:$W$31,"<>임명 전",Sheet1!$W$7:$W$31,"<>퇴직")=0,"제외",IF(COUNTIFS(Sheet1!$AI$7:$AI$31,$A3,Sheet1!$W$7:$W$31,"<>임명 전",Sheet1!$W$7:$W$31,"<>퇴직",Sheet1!$W$7:$W$31,"<>-")>0,"참석","불참")) -> 참석 | R3: =IF(COUNTIFS(Sheet1!$AI$7:$AI$31,$A3,Sheet1!$X$7:$X$31,"<>임명 전",Sheet1!$X$7:$X$31,"<>퇴직")=0,"제외",IF(COUNTIFS(Sheet1!$AI$7:$AI$31,$A3,Sheet1!$X$7:$X$31,"<>임명 전",Sheet1!$X$7:$X$31,"<>퇴직",Sheet1!$X$7:$X$31,"<>-")>0,"참석","불참")) -> 참석 | S3: =IF(COUNTIFS(Sheet1!$AI$7:$AI$31,$A3,Sheet1!$Y$7:$Y$31,"<>임명 전",Sheet1!$Y$7:$Y$31,"<>퇴직")=0,"제외",IF(COUNTIFS(Sheet1!$AI$7:$AI$31,$A3,Sheet1!$Y$7:$Y$31,"<>임명 전",Sheet1!$Y$7:$Y$31,"<>퇴직",Sheet1!$Y$7:$Y$31,"<>-")>0,"참석","불참")) -> 참석 | T3: =IF(COUNTIFS(Sheet1!$AI$7:$AI$31,$A3,Sheet1!$Z$7:$Z$31,"<>임명 전",Sheet1!$Z$7:$Z$31,"<>퇴직")=0,"제외",IF(COUNTIFS(Sheet1!$AI$7:$AI$31,$A3,Sheet1!$Z$7:$Z$31,"<>임명 전",Sheet1!$Z$7:$Z$31,"<>퇴직",Sheet1!$Z$7:$Z$31,"<>-")>0,"참석","불참")) -> 참석 | U3: =IF(COUNTIFS(Sheet1!$AI$7:$AI$31,$A3,Sheet1!$AA$7:$AA$31,"<>임명 전",Sheet1!$AA$7:$AA$31,"<>퇴직")=0,"제외",IF(COUNTIFS(Sheet1!$AI$7:$AI$31,$A3,Sheet1!$AA$7:$AA$31,"<>임명 전",Sheet1!$AA$7:$AA$31,"<>퇴직",Sheet1!$AA$7:$AA$31,"<>-")>0,"참석","불참")) -> 참석 | V3: =IF(COUNTIFS(Sheet1!$AI$7:$AI$31,$A3,Sheet1!$AB$7:$AB$31,"<>임명 전",Sheet1!$AB$7:$AB$31,"<>퇴직")=0,"제외",IF(COUNTIFS(Sheet1!$AI$7:$AI$31,$A3,Sheet1!$AB$7:$AB$31,"<>임명 전",Sheet1!$AB$7:$AB$31,"<>퇴직",Sheet1!$AB$7:$AB$31,"<>-")>0,"참석","불참")) -> 제외 | W3: =IF(COUNTIFS(Sheet1!$AI$7:$AI$31,$A3,Sheet1!$AC$7:$AC$31,"<>임명 전",Sheet1!$AC$7:$AC$31,"<>퇴직")=0,"제외",IF(COUNTIFS(Sheet1!$AI$7:$AI$31,$A3,Sheet1!$AC$7:$AC$31,"<>임명 전",Sheet1!$AC$7:$AC$31,"<>퇴직",Sheet1!$AC$7:$AC$31,"<>-")>0,"참석","불참")) -> 제외 | X3: =IF(COUNTIFS(Sheet1!$AI$7:$AI$31,$A3,Sheet1!$AD$7:$AD$31,"<>임명 전",Sheet1!$AD$7:$AD$31,"<>퇴직")=0,"제외",IF(COUNTIFS(Sheet1!$AI$7:$AI$31,$A3,Sheet1!$AD$7:$AD$31,"<>임명 전",Sheet1!$AD$7:$AD$31,"<>퇴직",Sheet1!$AD$7:$AD$31,"<>-")>0,"참석","불참")) -> 제외 | Y3: =IF(COUNTIFS(Sheet1!$AI$7:$AI$31,$A3,Sheet1!$AE$7:$AE$31,"<>임명 전",Sheet1!$AE$7:$AE$31,"<>퇴직")=0,"제외",IF(COUNTIFS(Sheet1!$AI$7:$AI$31,$A3,Sheet1!$AE$7:$AE$31,"<>임명 전",Sheet1!$AE$7:$AE$31,"<>퇴직",Sheet1!$AE$7:$AE$31,"<>-")>0,"참석","불참")) -> 제외 | Z3: =IF(COUNTIFS(Sheet1!$AI$7:$AI$31,$A3,Sheet1!$AF$7:$AF$31,"<>임명 전",Sheet1!$AF$7:$AF$31,"<>퇴직")=0,"제외",IF(COUNTIFS(Sheet1!$AI$7:$AI$31,$A3,Sheet1!$AF$7:$AF$31,"<>임명 전",Sheet1!$AF$7:$AF$31,"<>퇴직",Sheet1!$AF$7:$AF$31,"<>-")>0,"참석","불참")) -> 제외 | AA3: =IF(COUNTIFS(Sheet1!$AI$7:$AI$31,$A3,Sheet1!$AG$7:$AG$31,"<>임명 전",Sheet1!$AG$7:$AG$31,"<>퇴직")=0,"제외",IF(COUNTIFS(Sheet1!$AI$7:$AI$31,$A3,Sheet1!$AG$7:$AG$31,"<>임명 전",Sheet1!$AG$7:$AG$31,"<>퇴직",Sheet1!$AG$7:$AG$31,"<>-")>0,"참석","불참")) -> 제외 | AB3: =IF(COUNTIFS(Sheet1!$AI$7:$AI$31,$A3,Sheet1!$AH$7:$AH$31,"<>임명 전",Sheet1!$AH$7:$AH$31,"<>퇴직")=0,"제외",IF(COUNTIFS(Sheet1!$AI$7:$AI$31,$A3,Sheet1!$AH$7:$AH$31,"<>임명 전",Sheet1!$AH$7:$AH$31,"<>퇴직",Sheet1!$AH$7:$AH$31,"<>-")>0,"참석","불참")) -> 제외
A4: 111 | B4: =IF(COUNTIFS(Sheet1!$AI$7:$AI$31,$A4,Sheet1!$H$7:$H$31,"<>임명 전",Sheet1!$H$7:$H$31,"<>퇴직")=0,"제외",IF(COUNTIFS(Sheet1!$AI$7:$AI$31,$A4,Sheet1!$H$7:$H$31,"<>임명 전",Sheet1!$H$7:$H$31,"<>퇴직",Sheet1!$H$7:$H$31,"<>-")>0,"참석","불참")) -> 참석 | C4: =IF(COUNTIFS(Sheet1!$AI$7:$AI$31,$A4,Sheet1!$I$7:$I$31,"<>임명 전",Sheet1!$I$7:$I$31,"<>퇴직")=0,"제외",IF(COUNTIFS(Sheet1!$AI$7:$AI$31,$A4,Sheet1!$I$7:$I$31,"<>임명 전",Sheet1!$I$7:$I$31,"<>퇴직",Sheet1!$I$7:$I$31,"<>-")>0,"참석","불참")) -> 참석 | D4: =IF(COUNTIFS(Sheet1!$AI$7:$AI$31,$A4,Sheet1!$J$7:$J$31,"<>임명 전",Sheet1!$J$7:$J$31,"<>퇴직")=0,"제외",IF(COUNTIFS(Sheet1!$AI$7:$AI$31,$A4,Sheet1!$J$7:$J$31,"<>임명 전",Sheet1!$J$7:$J$31,"<>퇴직",Sheet1!$J$7:$J$31,"<>-")>0,"참석","불참")) -> 제외 | E4: =IF(COUNTIFS(Sheet1!$AI$7:$AI$31,$A4,Sheet1!$K$7:$K$31,"<>임명 전",Sheet1!$K$7:$K$31,"<>퇴직")=0,"제외",IF(COUNTIFS(Sheet1!$AI$7:$AI$31,$A4,Sheet1!$K$7:$K$31,"<>임명 전",Sheet1!$K$7:$K$31,"<>퇴직",Sheet1!$K$7:$K$31,"<>-")>0,"참석","불참")) -> 참석 | F4: =IF(COUNTIFS(Sheet1!$AI$7:$AI$31,$A4,Sheet1!$L$7:$L$31,"<>임명 전",Sheet1!$L$7:$L$31,"<>퇴직")=0,"제외",IF(COUNTIFS(Sheet1!$AI$7:$AI$31,$A4,Sheet1!$L$7:$L$31,"<>임명 전",Sheet1!$L$7:$L$31,"<>퇴직",Sheet1!$L$7:$L$31,"<>-")>0,"참석","불참")) -> 제외 | G4: =IF(COUNTIFS(Sheet1!$AI$7:$AI$31,$A4,Sheet1!$M$7:$M$31,"<>임명 전",Sheet1!$M$7:$M$31,"<>퇴직")=0,"제외",IF(COUNTIFS(Sheet1!$AI$7:$AI$31,$A4,Sheet1!$M$7:$M$31,"<>임명 전",Sheet1!$M$7:$M$31,"<>퇴직",Sheet1!$M$7:$M$31,"<>-")>0,"참석","불참")) -> 제외 | H4: =IF(COUNTIFS(Sheet1!$AI$7:$AI$31,$A4,Sheet1!$N$7:$N$31,"<>임명 전",Sheet1!$N$7:$N$31,"<>퇴직")=0,"제외",IF(COUNTIFS(Sheet1!$AI$7:$AI$31,$A4,Sheet1!$N$7:$N$31,"<>임명 전",Sheet1!$N$7:$N$31,"<>퇴직",Sheet1!$N$7:$N$31,"<>-")>0,"참석","불참")) -> 참석 | I4: =IF(COUNTIFS(Sheet1!$AI$7:$AI$31,$A4,Sheet1!$O$7:$O$31,"<>임명 전",Sheet1!$O$7:$O$31,"<>퇴직")=0,"제외",IF(COUNTIFS(Sheet1!$AI$7:$AI$31,$A4,Sheet1!$O$7:$O$31,"<>임명 전",Sheet1!$O$7:$O$31,"<>퇴직",Sheet1!$O$7:$O$31,"<>-")>0,"참석","불참")) -> 제외 | J4: =IF(COUNTIFS(Sheet1!$AI$7:$AI$31,$A4,Sheet1!$P$7:$P$31,"<>임명 전",Sheet1!$P$7:$P$31,"<>퇴직")=0,"제외",IF(COUNTIFS(Sheet1!$AI$7:$AI$31,$A4,Sheet1!$P$7:$P$31,"<>임명 전",Sheet1!$P$7:$P$31,"<>퇴직",Sheet1!$P$7:$P$31,"<>-")>0,"참석","불참")) -> 제외 | K4: =IF(COUNTIFS(Sheet1!$AI$7:$AI$31,$A4,Sheet1!$Q$7:$Q$31,"<>임명 전",Sheet1!$Q$7:$Q$31,"<>퇴직")=0,"제외",IF(COUNTIFS(Sheet1!$AI$7:$AI$31,$A4,Sheet1!$Q$7:$Q$31,"<>임명 전",Sheet1!$Q$7:$Q$31,"<>퇴직",Sheet1!$Q$7:$Q$31,"<>-")>0,"참석","불참")) -> 참석 | L4: =IF(COUNTIFS(Sheet1!$AI$7:$AI$31,$A4,Sheet1!$R$7:$R$31,"<>임명 전",Sheet1!$R$7:$R$31,"<>퇴직")=0,"제외",IF(COUNTIFS(Sheet1!$AI$7:$AI$31,$A4,Sheet1!$R$7:$R$31,"<>임명 전",Sheet1!$R$7:$R$31,"<>퇴직",Sheet1!$R$7:$R$31,"<>-")>0,"참석","불참")) -> 제외 | M4: =IF(COUNTIFS(Sheet1!$AI$7:$AI$31,$A4,Sheet1!$S$7:$S$31,"<>임명 전",Sheet1!$S$7:$S$31,"<>퇴직")=0,"제외",IF(COUNTIFS(Sheet1!$AI$7:$AI$31,$A4,Sheet1!$S$7:$S$31,"<>임명 전",Sheet1!$S$7:$S$31,"<>퇴직",Sheet1!$S$7:$S$31,"<>-")>0,"참석","불참")) -> 제외 | N4: =IF(COUNTIFS(Sheet1!$AI$7:$AI$31,$A4,Sheet1!$T$7:$T$31,"<>임명 전",Sheet1!$T$7:$T$31,"<>퇴직")=0,"제외",IF(COUNTIFS(Sheet1!$AI$7:$AI$31,$A4,Sheet1!$T$7:$T$31,"<>임명 전",Sheet1!$T$7:$T$31,"<>퇴직",Sheet1!$T$7:$T$31,"<>-")>0,"참석","불참")) -> 제외 | O4: =IF(COUNTIFS(Sheet1!$AI$7:$AI$31,$A4,Sheet1!$U$7:$U$31,"<>임명 전",Sheet1!$U$7:$U$31,"<>퇴직")=0,"제외",IF(COUNTIFS(Sheet1!$AI$7:$AI$31,$A4,Sheet1!$U$7:$U$31,"<>임명 전",Sheet1!$U$7:$U$31,"<>퇴직",Sheet1!$U$7:$U$31,"<>-")>0,"참석","불참")) -> 참석 | P4: =IF(COUNTIFS(Sheet1!$AI$7:$AI$31,$A4,Sheet1!$V$7:$V$31,"<>임명 전",Sheet1!$V$7:$V$31,"<>퇴직")=0,"제외",IF(COUNTIFS(Sheet1!$AI$7:$AI$31,$A4,Sheet1!$V$7:$V$31,"<>임명 전",Sheet1!$V$7:$V$31,"<>퇴직",Sheet1!$V$7:$V$31,"<>-")>0,"참석","불참")) -> 참석 | Q4: =IF(COUNTIFS(Sheet1!$AI$7:$AI$31,$A4,Sheet1!$W$7:$W$31,"<>임명 전",Sheet1!$W$7:$W$31,"<>퇴직")=0,"제외",IF(COUNTIFS(Sheet1!$AI$7:$AI$31,$A4,Sheet1!$W$7:$W$31,"<>임명 전",Sheet1!$W$7:$W$31,"<>퇴직",Sheet1!$W$7:$W$31,"<>-")>0,"참석","불참")) -> 참석 | R4: =IF(COUNTIFS(Sheet1!$AI$7:$AI$31,$A4,Sheet1!$X$7:$X$31,"<>임명 전",Sheet1!$X$7:$X$31,"<>퇴직")=0,"제외",IF(COUNTIFS(Sheet1!$AI$7:$AI$31,$A4,Sheet1!$X$7:$X$31,"<>임명 전",Sheet1!$X$7:$X$31,"<>퇴직",Sheet1!$X$7:$X$31,"<>-")>0,"참석","불참")) -> 참석 | S4: =IF(COUNTIFS(Sheet1!$AI$7:$AI$31,$A4,Sheet1!$Y$7:$Y$31,"<>임명 전",Sheet1!$Y$7:$Y$31,"<>퇴직")=0,"제외",IF(COUNTIFS(Sheet1!$AI$7:$AI$31,$A4,Sheet1!$Y$7:$Y$31,"<>임명 전",Sheet1!$Y$7:$Y$31,"<>퇴직",Sheet1!$Y$7:$Y$31,"<>-")>0,"참석","불참")) -> 참석 | T4: =IF(COUNTIFS(Sheet1!$AI$7:$AI$31,$A4,Sheet1!$Z$7:$Z$31,"<>임명 전",Sheet1!$Z$7:$Z$31,"<>퇴직")=0,"제외",IF(COUNTIFS(Sheet1!$AI$7:$AI$31,$A4,Sheet1!$Z$7:$Z$31,"<>임명 전",Sheet1!$Z$7:$Z$31,"<>퇴직",Sheet1!$Z$7:$Z$31,"<>-")>0,"참석","불참")) -> 참석 | U4: =IF(COUNTIFS(Sheet1!$AI$7:$AI$31,$A4,Sheet1!$AA$7:$AA$31,"<>임명 전",Sheet1!$AA$7:$AA$31,"<>퇴직")=0,"제외",IF(COUNTIFS(Sheet1!$AI$7:$AI$31,$A4,Sheet1!$AA$7:$AA$31,"<>임명 전",Sheet1!$AA$7:$AA$31,"<>퇴직",Sheet1!$AA$7:$AA$31,"<>-")>0,"참석","불참")) -> 참석 | V4: =IF(COUNTIFS(Sheet1!$AI$7:$AI$31,$A4,Sheet1!$AB$7:$AB$31,"<>임명 전",Sheet1!$AB$7:$AB$31,"<>퇴직")=0,"제외",IF(COUNTIFS(Sheet1!$AI$7:$AI$31,$A4,Sheet1!$AB$7:$AB$31,"<>임명 전",Sheet1!$AB$7:$AB$31,"<>퇴직",Sheet1!$AB$7:$AB$31,"<>-")>0,"참석","불참")) -> 제외 | W4: =IF(COUNTIFS(Sheet1!$AI$7:$AI$31,$A4,Sheet1!$AC$7:$AC$31,"<>임명 전",Sheet1!$AC$7:$AC$31,"<>퇴직")=0,"제외",IF(COUNTIFS(Sheet1!$AI$7:$AI$31,$A4,Sheet1!$AC$7:$AC$31,"<>임명 전",Sheet1!$AC$7:$AC$31,"<>퇴직",Sheet1!$AC$7:$AC$31,"<>-")>0,"참석","불참")) -> 제외 | X4: =IF(COUNTIFS(Sheet1!$AI$7:$AI$31,$A4,Sheet1!$AD$7:$AD$31,"<>임명 전",Sheet1!$AD$7:$AD$31,"<>퇴직")=0,"제외",IF(COUNTIFS(Sheet1!$AI$7:$AI$31,$A4,Sheet1!$AD$7:$AD$31,"<>임명 전",Sheet1!$AD$7:$AD$31,"<>퇴직",Sheet1!$AD$7:$AD$31,"<>-")>0,"참석","불참")) -> 제외 | Y4: =IF(COUNTIFS(Sheet1!$AI$7:$AI$31,$A4,Sheet1!$AE$7:$AE$31,"<>임명 전",Sheet1!$AE$7:$AE$31,"<>퇴직")=0,"제외",IF(COUNTIFS(Sheet1!$AI$7:$AI$31,$A4,Sheet1!$AE$7:$AE$31,"<>임명 전",Sheet1!$AE$7:$AE$31,"<>퇴직",Sheet1!$AE$7:$AE$31,"<>-")>0,"참석","불참")) -> 제외 | Z4: =IF(COUNTIFS(Sheet1!$AI$7:$AI$31,$A4,Sheet1!$AF$7:$AF$31,"<>임명 전",Sheet1!$AF$7:$AF$31,"<>퇴직")=0,"제외",IF(COUNTIFS(Sheet1!$AI$7:$AI$31,$A4,Sheet1!$AF$7:$AF$31,"<>임명 전",Sheet1!$AF$7:$AF$31,"<>퇴직",Sheet1!$AF$7:$AF$31,"<>-")>0,"참석","불참")) -> 제외 | AA4: =IF(COUNTIFS(Sheet1!$AI$7:$AI$31,$A4,Sheet1!$AG$7:$AG$31,"<>임명 전",Sheet1!$AG$7:$AG$31,"<>퇴직")=0,"제외",IF(COUNTIFS(Sheet1!$AI$7:$AI$31,$A4,Sheet1!$AG$7:$AG$31,"<>임명 전",Sheet1!$AG$7:$AG$31,"<>퇴직",Sheet1!$AG$7:$AG$31,"<>-")>0,"참석","불참")) -> 제외 | AB4: =IF(COUNTIFS(Sheet1!$AI$7:$AI$31,$A4,Sheet1!$AH$7:$AH$31,"<>임명 전",Sheet1!$AH$7:$AH$31,"<>퇴직")=0,"제외",IF(COUNTIFS(Sheet1!$AI$7:$AI$31,$A4,Sheet1!$AH$7:$AH$31,"<>임명 전",Sheet1!$AH$7:$AH$31,"<>퇴직",Sheet1!$AH$7:$AH$31,"<>-")>0,"참석","불참")) -> 제외
A5: 112 | B5: =IF(COUNTIFS(Sheet1!$AI$7:$AI$31,$A5,Sheet1!$H$7:$H$31,"<>임명 전",Sheet1!$H$7:$H$31,"<>퇴직")=0,"제외",IF(COUNTIFS(Sheet1!$AI$7:$AI$31,$A5,Sheet1!$H$7:$H$31,"<>임명 전",Sheet1!$H$7:$H$31,"<>퇴직",Sheet1!$H$7:$H$31,"<>-")>0,"참석","불참")) -> 참석 | C5: =IF(COUNTIFS(Sheet1!$AI$7:$AI$31,$A5,Sheet1!$I$7:$I$31,"<>임명 전",Sheet1!$I$7:$I$31,"<>퇴직")=0,"제외",IF(COUNTIFS(Sheet1!$AI$7:$AI$31,$A5,Sheet1!$I$7:$I$31,"<>임명 전",Sheet1!$I$7:$I$31,"<>퇴직",Sheet1!$I$7:$I$31,"<>-")>0,"참석","불참")) -> 참석 | D5: =IF(COUNTIFS(Sheet1!$AI$7:$AI$31,$A5,Sheet1!$J$7:$J$31,"<>임명 전",Sheet1!$J$7:$J$31,"<>퇴직")=0,"제외",IF(COUNTIFS(Sheet1!$AI$7:$AI$31,$A5,Sheet1!$J$7:$J$31,"<>임명 전",Sheet1!$J$7:$J$31,"<>퇴직",Sheet1!$J$7:$J$31,"<>-")>0,"참석","불참")) -> 불참 | E5: =IF(COUNTIFS(Sheet1!$AI$7:$AI$31,$A5,Sheet1!$K$7:$K$31,"<>임명 전",Sheet1!$K$7:$K$31,"<>퇴직")=0,"제외",IF(COUNTIFS(Sheet1!$AI$7:$AI$31,$A5,Sheet1!$K$7:$K$31,"<>임명 전",Sheet1!$K$7:$K$31,"<>퇴직",Sheet1!$K$7:$K$31,"<>-")>0,"참석","불참")) -> 참석 | F5: =IF(COUNTIFS(Sheet1!$AI$7:$AI$31,$A5,Sheet1!$L$7:$L$31,"<>임명 전",Sheet1!$L$7:$L$31,"<>퇴직")=0,"제외",IF(COUNTIFS(Sheet1!$AI$7:$AI$31,$A5,Sheet1!$L$7:$L$31,"<>임명 전",Sheet1!$L$7:$L$31,"<>퇴직",Sheet1!$L$7:$L$31,"<>-")>0,"참석","불참")) -> 제외 | G5: =IF(COUNTIFS(Sheet1!$AI$7:$AI$31,$A5,Sheet1!$M$7:$M$31,"<>임명 전",Sheet1!$M$7:$M$31,"<>퇴직")=0,"제외",IF(COUNTIFS(Sheet1!$AI$7:$AI$31,$A5,Sheet1!$M$7:$M$31,"<>임명 전",Sheet1!$M$7:$M$31,"<>퇴직",Sheet1!$M$7:$M$31,"<>-")>0,"참석","불참")) -> 제외 | H5: =IF(COUNTIFS(Sheet1!$AI$7:$AI$31,$A5,Sheet1!$N$7:$N$31,"<>임명 전",Sheet1!$N$7:$N$31,"<>퇴직")=0,"제외",IF(COUNTIFS(Sheet1!$AI$7:$AI$31,$A5,Sheet1!$N$7:$N$31,"<>임명 전",Sheet1!$N$7:$N$31,"<>퇴직",Sheet1!$N$7:$N$31,"<>-")>0,"참석","불참")) -> 참석 | I5: =IF(COUNTIFS(Sheet1!$AI$7:$AI$31,$A5,Sheet1!$O$7:$O$31,"<>임명 전",Sheet1!$O$7:$O$31,"<>퇴직")=0,"제외",IF(COUNTIFS(Sheet1!$AI$7:$AI$31,$A5,Sheet1!$O$7:$O$31,"<>임명 전",Sheet1!$O$7:$O$31,"<>퇴직",Sheet1!$O$7:$O$31,"<>-")>0,"참석","불참")) -> 제외 | J5: =IF(COUNTIFS(Sheet1!$AI$7:$AI$31,$A5,Sheet1!$P$7:$P$31,"<>임명 전",Sheet1!$P$7:$P$31,"<>퇴직")=0,"제외",IF(COUNTIFS(Sheet1!$AI$7:$AI$31,$A5,Sheet1!$P$7:$P$31,"<>임명 전",Sheet1!$P$7:$P$31,"<>퇴직",Sheet1!$P$7:$P$31,"<>-")>0,"참석","불참")) -> 제외 | K5: =IF(COUNTIFS(Sheet1!$AI$7:$AI$31,$A5,Sheet1!$Q$7:$Q$31,"<>임명 전",Sheet1!$Q$7:$Q$31,"<>퇴직")=0,"제외",IF(COUNTIFS(Sheet1!$AI$7:$AI$31,$A5,Sheet1!$Q$7:$Q$31,"<>임명 전",Sheet1!$Q$7:$Q$31,"<>퇴직",Sheet1!$Q$7:$Q$31,"<>-")>0,"참석","불참")) -> 참석 | L5: =IF(COUNTIFS(Sheet1!$AI$7:$AI$31,$A5,Sheet1!$R$7:$R$31,"<>임명 전",Sheet1!$R$7:$R$31,"<>퇴직")=0,"제외",IF(COUNTIFS(Sheet1!$AI$7:$AI$31,$A5,Sheet1!$R$7:$R$31,"<>임명 전",Sheet1!$R$7:$R$31,"<>퇴직",Sheet1!$R$7:$R$31,"<>-")>0,"참석","불참")) -> 제외 | M5: =IF(COUNTIFS(Sheet1!$AI$7:$AI$31,$A5,Sheet1!$S$7:$S$31,"<>임명 전",Sheet1!$S$7:$S$31,"<>퇴직")=0,"제외",IF(COUNTIFS(Sheet1!$AI$7:$AI$31,$A5,Sheet1!$S$7:$S$31,"<>임명 전",Sheet1!$S$7:$S$31,"<>퇴직",Sheet1!$S$7:$S$31,"<>-")>0,"참석","불참")) -> 제외 | N5: =IF(COUNTIFS(Sheet1!$AI$7:$AI$31,$A5,Sheet1!$T$7:$T$31,"<>임명 전",Sheet1!$T$7:$T$31,"<>퇴직")=0,"제외",IF(COUNTIFS(Sheet1!$AI$7:$AI$31,$A5,Sheet1!$T$7:$T$31,"<>임명 전",Sheet1!$T$7:$T$31,"<>퇴직",Sheet1!$T$7:$T$31,"<>-")>0,"참석","불참")) -> 제외 | O5: =IF(COUNTIFS(Sheet1!$AI$7:$AI$31,$A5,Sheet1!$U$7:$U$31,"<>임명 전",Sheet1!$U$7:$U$31,"<>퇴직")=0,"제외",IF(COUNTIFS(Sheet1!$AI$7:$AI$31,$A5,Sheet1!$U$7:$U$31,"<>임명 전",Sheet1!$U$7:$U$31,"<>퇴직",Sheet1!$U$7:$U$31,"<>-")>0,"참석","불참")) -> 참석 | P5: =IF(COUNTIFS(Sheet1!$AI$7:$AI$31,$A5,Sheet1!$V$7:$V$31,"<>임명 전",Sheet1!$V$7:$V$31,"<>퇴직")=0,"제외",IF(COUNTIFS(Sheet1!$AI$7:$AI$31,$A5,Sheet1!$V$7:$V$31,"<>임명 전",Sheet1!$V$7:$V$31,"<>퇴직",Sheet1!$V$7:$V$31,"<>-")>0,"참석","불참")) -> 참석 | Q5: =IF(COUNTIFS(Sheet1!$AI$7:$AI$31,$A5,Sheet1!$W$7:$W$31,"<>임명 전",Sheet1!$W$7:$W$31,"<>퇴직")=0,"제외",IF(COUNTIFS(Sheet1!$AI$7:$AI$31,$A5,Sheet1!$W$7:$W$31,"<>임명 전",Sheet1!$W$7:$W$31,"<>퇴직",Sheet1!$W$7:$W$31,"<>-")>0,"참석","불참")) -> 참석 | R5: =IF(COUNTIFS(Sheet1!$AI$7:$AI$31,$A5,Sheet1!$X$7:$X$31,"<>임명 전",Sheet1!$X$7:$X$31,"<>퇴직")=0,"제외",IF(COUNTIFS(Sheet1!$AI$7:$AI$31,$A5,Sheet1!$X$7:$X$31,"<>임명 전",Sheet1!$X$7:$X$31,"<>퇴직",Sheet1!$X$7:$X$31,"<>-")>0,"참석","불참")) -> 참석 | S5: =IF(COUNTIFS(Sheet1!$AI$7:$AI$31,$A5,Sheet1!$Y$7:$Y$31,"<>임명 전",Sheet1!$Y$7:$Y$31,"<>퇴직")=0,"제외",IF(COUNTIFS(Sheet1!$AI$7:$AI$31,$A5,Sheet1!$Y$7:$Y$31,"<>임명 전",Sheet1!$Y$7:$Y$31,"<>퇴직",Sheet1!$Y$7:$Y$31,"<>-")>0,"참석","불참")) -> 참석 | T5: =IF(COUNTIFS(Sheet1!$AI$7:$AI$31,$A5,Sheet1!$Z$7:$Z$31,"<>임명 전",Sheet1!$Z$7:$Z$31,"<>퇴직")=0,"제외",IF(COUNTIFS(Sheet1!$AI$7:$AI$31,$A5,Sheet1!$Z$7:$Z$31,"<>임명 전",Sheet1!$Z$7:$Z$31,"<>퇴직",Sheet1!$Z$7:$Z$31,"<>-")>0,"참석","불참")) -> 참석 | U5: =IF(COUNTIFS(Sheet1!$AI$7:$AI$31,$A5,Sheet1!$AA$7:$AA$31,"<>임명 전",Sheet1!$AA$7:$AA$31,"<>퇴직")=0,"제외",IF(COUNTIFS(Sheet1!$AI$7:$AI$31,$A5,Sheet1!$AA$7:$AA$31,"<>임명 전",Sheet1!$AA$7:$AA$31,"<>퇴직",Sheet1!$AA$7:$AA$31,"<>-")>0,"참석","불참")) -> 참석 | V5: =IF(COUNTIFS(Sheet1!$AI$7:$AI$31,$A5,Sheet1!$AB$7:$AB$31,"<>임명 전",Sheet1!$AB$7:$AB$31,"<>퇴직")=0,"제외",IF(COUNTIFS(Sheet1!$AI$7:$AI$31,$A5,Sheet1!$AB$7:$AB$31,"<>임명 전",Sheet1!$AB$7:$AB$31,"<>퇴직",Sheet1!$AB$7:$AB$31,"<>-")>0,"참석","불참")) -> 제외 | W5: =IF(COUNTIFS(Sheet1!$AI$7:$AI$31,$A5,Sheet1!$AC$7:$AC$31,"<>임명 전",Sheet1!$AC$7:$AC$31,"<>퇴직")=0,"제외",IF(COUNTIFS(Sheet1!$AI$7:$AI$31,$A5,Sheet1!$AC$7:$AC$31,"<>임명 전",Sheet1!$AC$7:$AC$31,"<>퇴직",Sheet1!$AC$7:$AC$31,"<>-")>0,"참석","불참")) -> 제외 | X5: =IF(COUNTIFS(Sheet1!$AI$7:$AI$31,$A5,Sheet1!$AD$7:$AD$31,"<>임명 전",Sheet1!$AD$7:$AD$31,"<>퇴직")=0,"제외",IF(COUNTIFS(Sheet1!$AI$7:$AI$31,$A5,Sheet1!$AD$7:$AD$31,"<>임명 전",Sheet1!$AD$7:$AD$31,"<>퇴직",Sheet1!$AD$7:$AD$31,"<>-")>0,"참석","불참")) -> 제외 | Y5: =IF(COUNTIFS(Sheet1!$AI$7:$AI$31,$A5,Sheet1!$AE$7:$AE$31,"<>임명 전",Sheet1!$AE$7:$AE$31,"<>퇴직")=0,"제외",IF(COUNTIFS(Sheet1!$AI$7:$AI$31,$A5,Sheet1!$AE$7:$AE$31,"<>임명 전",Sheet1!$AE$7:$AE$31,"<>퇴직",Sheet1!$AE$7:$AE$31,"<>-")>0,"참석","불참")) -> 제외 | Z5: =IF(COUNTIFS(Sheet1!$AI$7:$AI$31,$A5,Sheet1!$AF$7:$AF$31,"<>임명 전",Sheet1!$AF$7:$AF$31,"<>퇴직")=0,"제외",IF(COUNTIFS(Sheet1!$AI$7:$AI$31,$A5,Sheet1!$AF$7:$AF$31,"<>임명 전",Sheet1!$AF$7:$AF$31,"<>퇴직",Sheet1!$AF$7:$AF$31,"<>-")>0,"참석","불참")) -> 제외 | AA5: =IF(COUNTIFS(Sheet1!$AI$7:$AI$31,$A5,Sheet1!$AG$7:$AG$31,"<>임명 전",Sheet1!$AG$7:$AG$31,"<>퇴직")=0,"제외",IF(COUNTIFS(Sheet1!$AI$7:$AI$31,$A5,Sheet1!$AG$7:$AG$31,"<>임명 전",Sheet1!$AG$7:$AG$31,"<>퇴직",Sheet1!$AG$7:$AG$31,"<>-")>0,"참석","불참")) -> 제외 | AB5: =IF(COUNTIFS(Sheet1!$AI$7:$AI$31,$A5,Sheet1!$AH$7:$AH$31,"<>임명 전",Sheet1!$AH$7:$AH$31,"<>퇴직")=0,"제외",IF(COUNTIFS(Sheet1!$AI$7:$AI$31,$A5,Sheet1!$AH$7:$AH$31,"<>임명 전",Sheet1!$AH$7:$AH$31,"<>퇴직",Sheet1!$AH$7:$AH$31,"<>-")>0,"참석","불참")) -> 제외
A6: 113 | B6: =IF(COUNTIFS(Sheet1!$AI$7:$AI$31,$A6,Sheet1!$H$7:$H$31,"<>임명 전",Sheet1!$H$7:$H$31,"<>퇴직")=0,"제외",IF(COUNTIFS(Sheet1!$AI$7:$AI$31,$A6,Sheet1!$H$7:$H$31,"<>임명 전",Sheet1!$H$7:$H$31,"<>퇴직",Sheet1!$H$7:$H$31,"<>-")>0,"참석","불참")) -> 참석 | C6: =IF(COUNTIFS(Sheet1!$AI$7:$AI$31,$A6,Sheet1!$I$7:$I$31,"<>임명 전",Sheet1!$I$7:$I$31,"<>퇴직")=0,"제외",IF(COUNTIFS(Sheet1!$AI$7:$AI$31,$A6,Sheet1!$I$7:$I$31,"<>임명 전",Sheet1!$I$7:$I$31,"<>퇴직",Sheet1!$I$7:$I$31,"<>-")>0,"참석","불참")) -> 참석 | D6: =IF(COUNTIFS(Sheet1!$AI$7:$AI$31,$A6,Sheet1!$J$7:$J$31,"<>임명 전",Sheet1!$J$7:$J$31,"<>퇴직")=0,"제외",IF(COUNTIFS(Sheet1!$AI$7:$AI$31,$A6,Sheet1!$J$7:$J$31,"<>임명 전",Sheet1!$J$7:$J$31,"<>퇴직",Sheet1!$J$7:$J$31,"<>-")>0,"참석","불참")) -> 불참 | E6: =IF(COUNTIFS(Sheet1!$AI$7:$AI$31,$A6,Sheet1!$K$7:$K$31,"<>임명 전",Sheet1!$K$7:$K$31,"<>퇴직")=0,"제외",IF(COUNTIFS(Sheet1!$AI$7:$AI$31,$A6,Sheet1!$K$7:$K$31,"<>임명 전",Sheet1!$K$7:$K$31,"<>퇴직",Sheet1!$K$7:$K$31,"<>-")>0,"참석","불참")) -> 참석 | F6: =IF(COUNTIFS(Sheet1!$AI$7:$AI$31,$A6,Sheet1!$L$7:$L$31,"<>임명 전",Sheet1!$L$7:$L$31,"<>퇴직")=0,"제외",IF(COUNTIFS(Sheet1!$AI$7:$AI$31,$A6,Sheet1!$L$7:$L$31,"<>임명 전",Sheet1!$L$7:$L$31,"<>퇴직",Sheet1!$L$7:$L$31,"<>-")>0,"참석","불참")) -> 제외 | G6: =IF(COUNTIFS(Sheet1!$AI$7:$AI$31,$A6,Sheet1!$M$7:$M$31,"<>임명 전",Sheet1!$M$7:$M$31,"<>퇴직")=0,"제외",IF(COUNTIFS(Sheet1!$AI$7:$AI$31,$A6,Sheet1!$M$7:$M$31,"<>임명 전",Sheet1!$M$7:$M$31,"<>퇴직",Sheet1!$M$7:$M$31,"<>-")>0,"참석","불참")) -> 제외 | H6: =IF(COUNTIFS(Sheet1!$AI$7:$AI$31,$A6,Sheet1!$N$7:$N$31,"<>임명 전",Sheet1!$N$7:$N$31,"<>퇴직")=0,"제외",IF(COUNTIFS(Sheet1!$AI$7:$AI$31,$A6,Sheet1!$N$7:$N$31,"<>임명 전",Sheet1!$N$7:$N$31,"<>퇴직",Sheet1!$N$7:$N$31,"<>-")>0,"참석","불참")) -> 참석 | I6: =IF(COUNTIFS(Sheet1!$AI$7:$AI$31,$A6,Sheet1!$O$7:$O$31,"<>임명 전",Sheet1!$O$7:$O$31,"<>퇴직")=0,"제외",IF(COUNTIFS(Sheet1!$AI$7:$AI$31,$A6,Sheet1!$O$7:$O$31,"<>임명 전",Sheet1!$O$7:$O$31,"<>퇴직",Sheet1!$O$7:$O$31,"<>-")>0,"참석","불참")) -> 제외 | J6: =IF(COUNTIFS(Sheet1!$AI$7:$AI$31,$A6,Sheet1!$P$7:$P$31,"<>임명 전",Sheet1!$P$7:$P$31,"<>퇴직")=0,"제외",IF(COUNTIFS(Sheet1!$AI$7:$AI$31,$A6,Sheet1!$P$7:$P$31,"<>임명 전",Sheet1!$P$7:$P$31,"<>퇴직",Sheet1!$P$7:$P$31,"<>-")>0,"참석","불참")) -> 제외 | K6: =IF(COUNTIFS(Sheet1!$AI$7:$AI$31,$A6,Sheet1!$Q$7:$Q$31,"<>임명 전",Sheet1!$Q$7:$Q$31,"<>퇴직")=0,"제외",IF(COUNTIFS(Sheet1!$AI$7:$AI$31,$A6,Sheet1!$Q$7:$Q$31,"<>임명 전",Sheet1!$Q$7:$Q$31,"<>퇴직",Sheet1!$Q$7:$Q$31,"<>-")>0,"참석","불참")) -> 참석 | L6: =IF(COUNTIFS(Sheet1!$AI$7:$AI$31,$A6,Sheet1!$R$7:$R$31,"<>임명 전",Sheet1!$R$7:$R$31,"<>퇴직")=0,"제외",IF(COUNTIFS(Sheet1!$AI$7:$AI$31,$A6,Sheet1!$R$7:$R$31,"<>임명 전",Sheet1!$R$7:$R$31,"<>퇴직",Sheet1!$R$7:$R$31,"<>-")>0,"참석","불참")) -> 제외 | M6: =IF(COUNTIFS(Sheet1!$AI$7:$AI$31,$A6,Sheet1!$S$7:$S$31,"<>임명 전",Sheet1!$S$7:$S$31,"<>퇴직")=0,"제외",IF(COUNTIFS(Sheet1!$AI$7:$AI$31,$A6,Sheet1!$S$7:$S$31,"<>임명 전",Sheet1!$S$7:$S$31,"<>퇴직",Sheet1!$S$7:$S$31,"<>-")>0,"참석","불참")) -> 제외 | N6: =IF(COUNTIFS(Sheet1!$AI$7:$AI$31,$A6,Sheet1!$T$7:$T$31,"<>임명 전",Sheet1!$T$7:$T$31,"<>퇴직")=0,"제외",IF(COUNTIFS(Sheet1!$AI$7:$AI$31,$A6,Sheet1!$T$7:$T$31,"<>임명 전",Sheet1!$T$7:$T$31,"<>퇴직",Sheet1!$T$7:$T$31,"<>-")>0,"참석","불참")) -> 제외 | O6: =IF(COUNTIFS(Sheet1!$AI$7:$AI$31,$A6,Sheet1!$U$7:$U$31,"<>임명 전",Sheet1!$U$7:$U$31,"<>퇴직")=0,"제외",IF(COUNTIFS(Sheet1!$AI$7:$AI$31,$A6,Sheet1!$U$7:$U$31,"<>임명 전",Sheet1!$U$7:$U$31,"<>퇴직",Sheet1!$U$7:$U$31,"<>-")>0,"참석","불참")) -> 참석 | P6: =IF(COUNTIFS(Sheet1!$AI$7:$AI$31,$A6,Sheet1!$V$7:$V$31,"<>임명 전",Sheet1!$V$7:$V$31,"<>퇴직")=0,"제외",IF(COUNTIFS(Sheet1!$AI$7:$AI$31,$A6,Sheet1!$V$7:$V$31,"<>임명 전",Sheet1!$V$7:$V$31,"<>퇴직",Sheet1!$V$7:$V$31,"<>-")>0,"참석","불참")) -> 불참 | Q6: =IF(COUNTIFS(Sheet1!$AI$7:$AI$31,$A6,Sheet1!$W$7:$W$31,"<>임명 전",Sheet1!$W$7:$W$31,"<>퇴직")=0,"제외",IF(COUNTIFS(Sheet1!$AI$7:$AI$31,$A6,Sheet1!$W$7:$W$31,"<>임명 전",Sheet1!$W$7:$W$31,"<>퇴직",Sheet1!$W$7:$W$31,"<>-")>0,"참석","불참")) -> 참석 | R6: =IF(COUNTIFS(Sheet1!$AI$7:$AI$31,$A6,Sheet1!$X$7:$X$31,"<>임명 전",Sheet1!$X$7:$X$31,"<>퇴직")=0,"제외",IF(COUNTIFS(Sheet1!$AI$7:$AI$31,$A6,Sheet1!$X$7:$X$31,"<>임명 전",Sheet1!$X$7:$X$31,"<>퇴직",Sheet1!$X$7:$X$31,"<>-")>0,"참석","불참")) -> 참석 | S6: =IF(COUNTIFS(Sheet1!$AI$7:$AI$31,$A6,Sheet1!$Y$7:$Y$31,"<>임명 전",Sheet1!$Y$7:$Y$31,"<>퇴직")=0,"제외",IF(COUNTIFS(Sheet1!$AI$7:$AI$31,$A6,Sheet1!$Y$7:$Y$31,"<>임명 전",Sheet1!$Y$7:$Y$31,"<>퇴직",Sheet1!$Y$7:$Y$31,"<>-")>0,"참석","불참")) -> 불참 | T6: =IF(COUNTIFS(Sheet1!$AI$7:$AI$31,$A6,Sheet1!$Z$7:$Z$31,"<>임명 전",Sheet1!$Z$7:$Z$31,"<>퇴직")=0,"제외",IF(COUNTIFS(Sheet1!$AI$7:$AI$31,$A6,Sheet1!$Z$7:$Z$31,"<>임명 전",Sheet1!$Z$7:$Z$31,"<>퇴직",Sheet1!$Z$7:$Z$31,"<>-")>0,"참석","불참")) -> 불참 | U6: =IF(COUNTIFS(Sheet1!$AI$7:$AI$31,$A6,Sheet1!$AA$7:$AA$31,"<>임명 전",Sheet1!$AA$7:$AA$31,"<>퇴직")=0,"제외",IF(COUNTIFS(Sheet1!$AI$7:$AI$31,$A6,Sheet1!$AA$7:$AA$31,"<>임명 전",Sheet1!$AA$7:$AA$31,"<>퇴직",Sheet1!$AA$7:$AA$31,"<>-")>0,"참석","불참")) -> 참석 | V6: =IF(COUNTIFS(Sheet1!$AI$7:$AI$31,$A6,Sheet1!$AB$7:$AB$31,"<>임명 전",Sheet1!$AB$7:$AB$31,"<>퇴직")=0,"제외",IF(COUNTIFS(Sheet1!$AI$7:$AI$31,$A6,Sheet1!$AB$7:$AB$31,"<>임명 전",Sheet1!$AB$7:$AB$31,"<>퇴직",Sheet1!$AB$7:$AB$31,"<>-")>0,"참석","불참")) -> 제외 | W6: =IF(COUNTIFS(Sheet1!$AI$7:$AI$31,$A6,Sheet1!$AC$7:$AC$31,"<>임명 전",Sheet1!$AC$7:$AC$31,"<>퇴직")=0,"제외",IF(COUNTIFS(Sheet1!$AI$7:$AI$31,$A6,Sheet1!$AC$7:$AC$31,"<>임명 전",Sheet1!$AC$7:$AC$31,"<>퇴직",Sheet1!$AC$7:$AC$31,"<>-")>0,"참석","불참")) -> 제외 | X6: =IF(COUNTIFS(Sheet1!$AI$7:$AI$31,$A6,Sheet1!$AD$7:$AD$31,"<>임명 전",Sheet1!$AD$7:$AD$31,"<>퇴직")=0,"제외",IF(COUNTIFS(Sheet1!$AI$7:$AI$31,$A6,Sheet1!$AD$7:$AD$31,"<>임명 전",Sheet1!$AD$7:$AD$31,"<>퇴직",Sheet1!$AD$7:$AD$31,"<>-")>0,"참석","불참")) -> 제외 | Y6: =IF(COUNTIFS(Sheet1!$AI$7:$AI$31,$A6,Sheet1!$AE$7:$AE$31,"<>임명 전",Sheet1!$AE$7:$AE$31,"<>퇴직")=0,"제외",IF(COUNTIFS(Sheet1!$AI$7:$AI$31,$A6,Sheet1!$AE$7:$AE$31,"<>임명 전",Sheet1!$AE$7:$AE$31,"<>퇴직",Sheet1!$AE$7:$AE$31,"<>-")>0,"참석","불참")) -> 제외 | Z6: =IF(COUNTIFS(Sheet1!$AI$7:$AI$31,$A6,Sheet1!$AF$7:$AF$31,"<>임명 전",Sheet1!$AF$7:$AF$31,"<>퇴직")=0,"제외",IF(COUNTIFS(Sheet1!$AI$7:$AI$31,$A6,Sheet1!$AF$7:$AF$31,"<>임명 전",Sheet1!$AF$7:$AF$31,"<>퇴직",Sheet1!$AF$7:$AF$31,"<>-")>0,"참석","불참")) -> 제외 | AA6: =IF(COUNTIFS(Sheet1!$AI$7:$AI$31,$A6,Sheet1!$AG$7:$AG$31,"<>임명 전",Sheet1!$AG$7:$AG$31,"<>퇴직")=0,"제외",IF(COUNTIFS(Sheet1!$AI$7:$AI$31,$A6,Sheet1!$AG$7:$AG$31,"<>임명 전",Sheet1!$AG$7:$AG$31,"<>퇴직",Sheet1!$AG$7:$AG$31,"<>-")>0,"참석","불참")) -> 제외 | AB6: =IF(COUNTIFS(Sheet1!$AI$7:$AI$31,$A6,Sheet1!$AH$7:$AH$31,"<>임명 전",Sheet1!$AH$7:$AH$31,"<>퇴직")=0,"제외",IF(COUNTIFS(Sheet1!$AI$7:$AI$31,$A6,Sheet1!$AH$7:$AH$31,"<>임명 전",Sheet1!$AH$7:$AH$31,"<>퇴직",Sheet1!$AH$7:$AH$31,"<>-")>0,"참석","불참")) -> 제외
A7: 114 | B7: =IF(COUNTIFS(Sheet1!$AI$7:$AI$31,$A7,Sheet1!$H$7:$H$31,"<>임명 전",Sheet1!$H$7:$H$31,"<>퇴직")=0,"제외",IF(COUNTIFS(Sheet1!$AI$7:$AI$31,$A7,Sheet1!$H$7:$H$31,"<>임명 전",Sheet1!$H$7:$H$31,"<>퇴직",Sheet1!$H$7:$H$31,"<>-")>0,"참석","불참")) -> 참석 | C7: =IF(COUNTIFS(Sheet1!$AI$7:$AI$31,$A7,Sheet1!$I$7:$I$31,"<>임명 전",Sheet1!$I$7:$I$31,"<>퇴직")=0,"제외",IF(COUNTIFS(Sheet1!$AI$7:$AI$31,$A7,Sheet1!$I$7:$I$31,"<>임명 전",Sheet1!$I$7:$I$31,"<>퇴직",Sheet1!$I$7:$I$31,"<>-")>0,"참석","불참")) -> 불참 | D7: =IF(COUNTIFS(Sheet1!$AI$7:$AI$31,$A7,Sheet1!$J$7:$J$31,"<>임명 전",Sheet1!$J$7:$J$31,"<>퇴직")=0,"제외",IF(COUNTIFS(Sheet1!$AI$7:$AI$31,$A7,Sheet1!$J$7:$J$31,"<>임명 전",Sheet1!$J$7:$J$31,"<>퇴직",Sheet1!$J$7:$J$31,"<>-")>0,"참석","불참")) -> 불참 | E7: =IF(COUNTIFS(Sheet1!$AI$7:$AI$31,$A7,Sheet1!$K$7:$K$31,"<>임명 전",Sheet1!$K$7:$K$31,"<>퇴직")=0,"제외",IF(COUNTIFS(Sheet1!$AI$7:$AI$31,$A7,Sheet1!$K$7:$K$31,"<>임명 전",Sheet1!$K$7:$K$31,"<>퇴직",Sheet1!$K$7:$K$31,"<>-")>0,"참석","불참")) -> 참석 | F7: =IF(COUNTIFS(Sheet1!$AI$7:$AI$31,$A7,Sheet1!$L$7:$L$31,"<>임명 전",Sheet1!$L$7:$L$31,"<>퇴직")=0,"제외",IF(COUNTIFS(Sheet1!$AI$7:$AI$31,$A7,Sheet1!$L$7:$L$31,"<>임명 전",Sheet1!$L$7:$L$31,"<>퇴직",Sheet1!$L$7:$L$31,"<>-")>0,"참석","불참")) -> 제외 | G7: =IF(COUNTIFS(Sheet1!$AI$7:$AI$31,$A7,Sheet1!$M$7:$M$31,"<>임명 전",Sheet1!$M$7:$M$31,"<>퇴직")=0,"제외",IF(COUNTIFS(Sheet1!$AI$7:$AI$31,$A7,Sheet1!$M$7:$M$31,"<>임명 전",Sheet1!$M$7:$M$31,"<>퇴직",Sheet1!$M$7:$M$31,"<>-")>0,"참석","불참")) -> 제외 | H7: =IF(COUNTIFS(Sheet1!$AI$7:$AI$31,$A7,Sheet1!$N$7:$N$31,"<>임명 전",Sheet1!$N$7:$N$31,"<>퇴직")=0,"제외",IF(COUNTIFS(Sheet1!$AI$7:$AI$31,$A7,Sheet1!$N$7:$N$31,"<>임명 전",Sheet1!$N$7:$N$31,"<>퇴직",Sheet1!$N$7:$N$31,"<>-")>0,"참석","불참")) -> 불참 | I7: =IF(COUNTIFS(Sheet1!$AI$7:$AI$31,$A7,Sheet1!$O$7:$O$31,"<>임명 전",Sheet1!$O$7:$O$31,"<>퇴직")=0,"제외",IF(COUNTIFS(Sheet1!$AI$7:$AI$31,$A7,Sheet1!$O$7:$O$31,"<>임명 전",Sheet1!$O$7:$O$31,"<>퇴직",Sheet1!$O$7:$O$31,"<>-")>0,"참석","불참")) -> 제외 | J7: =IF(COUNTIFS(Sheet1!$AI$7:$AI$31,$A7,Sheet1!$P$7:$P$31,"<>임명 전",Sheet1!$P$7:$P$31,"<>퇴직")=0,"제외",IF(COUNTIFS(Sheet1!$AI$7:$AI$31,$A7,Sheet1!$P$7:$P$31,"<>임명 전",Sheet1!$P$7:$P$31,"<>퇴직",Sheet1!$P$7:$P$31,"<>-")>0,"참석","불참")) -> 제외 | K7: =IF(COUNTIFS(Sheet1!$AI$7:$AI$31,$A7,Sheet1!$Q$7:$Q$31,"<>임명 전",Sheet1!$Q$7:$Q$31,"<>퇴직")=0,"제외",IF(COUNTIFS(Sheet1!$AI$7:$AI$31,$A7,Sheet1!$Q$7:$Q$31,"<>임명 전",Sheet1!$Q$7:$Q$31,"<>퇴직",Sheet1!$Q$7:$Q$31,"<>-")>0,"참석","불참")) -> 참석 | L7: =IF(COUNTIFS(Sheet1!$AI$7:$AI$31,$A7,Sheet1!$R$7:$R$31,"<>임명 전",Sheet1!$R$7:$R$31,"<>퇴직")=0,"제외",IF(COUNTIFS(Sheet1!$AI$7:$AI$31,$A7,Sheet1!$R$7:$R$31,"<>임명 전",Sheet1!$R$7:$R$31,"<>퇴직",Sheet1!$R$7:$R$31,"<>-")>0,"참석","불참")) -> 제외 | M7: =IF(COUNTIFS(Sheet1!$AI$7:$AI$31,$A7,Sheet1!$S$7:$S$31,"<>임명 전",Sheet1!$S$7:$S$31,"<>퇴직")=0,"제외",IF(COUNTIFS(Sheet1!$AI$7:$AI$31,$A7,Sheet1!$S$7:$S$31,"<>임명 전",Sheet1!$S$7:$S$31,"<>퇴직",Sheet1!$S$7:$S$31,"<>-")>0,"참석","불참")) -> 제외 | N7: =IF(COUNTIFS(Sheet1!$AI$7:$AI$31,$A7,Sheet1!$T$7:$T$31,"<>임명 전",Sheet1!$T$7:$T$31,"<>퇴직")=0,"제외",IF(COUNTIFS(Sheet1!$AI$7:$AI$31,$A7,Sheet1!$T$7:$T$31,"<>임명 전",Sheet1!$T$7:$T$31,"<>퇴직",Sheet1!$T$7:$T$31,"<>-")>0,"참석","불참")) -> 제외 | O7: =IF(COUNTIFS(Sheet1!$AI$7:$AI$31,$A7,Sheet1!$U$7:$U$31,"<>임명 전",Sheet1!$U$7:$U$31,"<>퇴직")=0,"제외",IF(COUNTIFS(Sheet1!$AI$7:$AI$31,$A7,Sheet1!$U$7:$U$31,"<>임명 전",Sheet1!$U$7:$U$31,"<>퇴직",Sheet1!$U$7:$U$31,"<>-")>0,"참석","불참")) -> 참석 | P7: =IF(COUNTIFS(Sheet1!$AI$7:$AI$31,$A7,Sheet1!$V$7:$V$31,"<>임명 전",Sheet1!$V$7:$V$31,"<>퇴직")=0,"제외",IF(COUNTIFS(Sheet1!$AI$7:$AI$31,$A7,Sheet1!$V$7:$V$31,"<>임명 전",Sheet1!$V$7:$V$31,"<>퇴직",Sheet1!$V$7:$V$31,"<>-")>0,"참석","불참")) -> 참석 | Q7: =IF(COUNTIFS(Sheet1!$AI$7:$AI$31,$A7,Sheet1!$W$7:$W$31,"<>임명 전",Sheet1!$W$7:$W$31,"<>퇴직")=0,"제외",IF(COUNTIFS(Sheet1!$AI$7:$AI$31,$A7,Sheet1!$W$7:$W$31,"<>임명 전",Sheet1!$W$7:$W$31,"<>퇴직",Sheet1!$W$7:$W$31,"<>-")>0,"참석","불참")) -> 참석 | R7: =IF(COUNTIFS(Sheet1!$AI$7:$AI$31,$A7,Sheet1!$X$7:$X$31,"<>임명 전",Sheet1!$X$7:$X$31,"<>퇴직")=0,"제외",IF(COUNTIFS(Sheet1!$AI$7:$AI$31,$A7,Sheet1!$X$7:$X$31,"<>임명 전",Sheet1!$X$7:$X$31,"<>퇴직",Sheet1!$X$7:$X$31,"<>-")>0,"참석","불참")) -> 참석 | S7: =IF(COUNTIFS(Sheet1!$AI$7:$AI$31,$A7,Sheet1!$Y$7:$Y$31,"<>임명 전",Sheet1!$Y$7:$Y$31,"<>퇴직")=0,"제외",IF(COUNTIFS(Sheet1!$AI$7:$AI$31,$A7,Sheet1!$Y$7:$Y$31,"<>임명 전",Sheet1!$Y$7:$Y$31,"<>퇴직",Sheet1!$Y$7:$Y$31,"<>-")>0,"참석","불참")) -> 참석 | T7: =IF(COUNTIFS(Sheet1!$AI$7:$AI$31,$A7,Sheet1!$Z$7:$Z$31,"<>임명 전",Sheet1!$Z$7:$Z$31,"<>퇴직")=0,"제외",IF(COUNTIFS(Sheet1!$AI$7:$AI$31,$A7,Sheet1!$Z$7:$Z$31,"<>임명 전",Sheet1!$Z$7:$Z$31,"<>퇴직",Sheet1!$Z$7:$Z$31,"<>-")>0,"참석","불참")) -> 참석 | U7: =IF(COUNTIFS(Sheet1!$AI$7:$AI$31,$A7,Sheet1!$AA$7:$AA$31,"<>임명 전",Sheet1!$AA$7:$AA$31,"<>퇴직")=0,"제외",IF(COUNTIFS(Sheet1!$AI$7:$AI$31,$A7,Sheet1!$AA$7:$AA$31,"<>임명 전",Sheet1!$AA$7:$AA$31,"<>퇴직",Sheet1!$AA$7:$AA$31,"<>-")>0,"참석","불참")) -> 참석 | V7: =IF(COUNTIFS(Sheet1!$AI$7:$AI$31,$A7,Sheet1!$AB$7:$AB$31,"<>임명 전",Sheet1!$AB$7:$AB$31,"<>퇴직")=0,"제외",IF(COUNTIFS(Sheet1!$AI$7:$AI$31,$A7,Sheet1!$AB$7:$AB$31,"<>임명 전",Sheet1!$AB$7:$AB$31,"<>퇴직",Sheet1!$AB$7:$AB$31,"<>-")>0,"참석","불참")) -> 제외 | W7: =IF(COUNTIFS(Sheet1!$AI$7:$AI$31,$A7,Sheet1!$AC$7:$AC$31,"<>임명 전",Sheet1!$AC$7:$AC$31,"<>퇴직")=0,"제외",IF(COUNTIFS(Sheet1!$AI$7:$AI$31,$A7,Sheet1!$AC$7:$AC$31,"<>임명 전",Sheet1!$AC$7:$AC$31,"<>퇴직",Sheet1!$AC$7:$AC$31,"<>-")>0,"참석","불참")) -> 제외 | X7: =IF(COUNTIFS(Sheet1!$AI$7:$AI$31,$A7,Sheet1!$AD$7:$AD$31,"<>임명 전",Sheet1!$AD$7:$AD$31,"<>퇴직")=0,"제외",IF(COUNTIFS(Sheet1!$AI$7:$AI$31,$A7,Sheet1!$AD$7:$AD$31,"<>임명 전",Sheet1!$AD$7:$AD$31,"<>퇴직",Sheet1!$AD$7:$AD$31,"<>-")>0,"참석","불참")) -> 제외 | Y7: =IF(COUNTIFS(Sheet1!$AI$7:$AI$31,$A7,Sheet1!$AE$7:$AE$31,"<>임명 전",Sheet1!$AE$7:$AE$31,"<>퇴직")=0,"제외",IF(COUNTIFS(Sheet1!$AI$7:$AI$31,$A7,Sheet1!$AE$7:$AE$31,"<>임명 전",Sheet1!$AE$7:$AE$31,"<>퇴직",Sheet1!$AE$7:$AE$31,"<>-")>0,"참석","불참")) -> 제외 | Z7: =IF(COUNTIFS(Sheet1!$AI$7:$AI$31,$A7,Sheet1!$AF$7:$AF$31,"<>임명 전",Sheet1!$AF$7:$AF$31,"<>퇴직")=0,"제외",IF(COUNTIFS(Sheet1!$AI$7:$AI$31,$A7,Sheet1!$AF$7:$AF$31,"<>임명 전",Sheet1!$AF$7:$AF$31,"<>퇴직",Sheet1!$AF$7:$AF$31,"<>-")>0,"참석","불참")) -> 제외 | AA7: =IF(COUNTIFS(Sheet1!$AI$7:$AI$31,$A7,Sheet1!$AG$7:$AG$31,"<>임명 전",Sheet1!$AG$7:$AG$31,"<>퇴직")=0,"제외",IF(COUNTIFS(Sheet1!$AI$7:$AI$31,$A7,Sheet1!$AG$7:$AG$31,"<>임명 전",Sheet1!$AG$7:$AG$31,"<>퇴직",Sheet1!$AG$7:$AG$31,"<>-")>0,"참석","불참")) -> 제외 | AB7: =IF(COUNTIFS(Sheet1!$AI$7:$AI$31,$A7,Sheet1!$AH$7:$AH$31,"<>임명 전",Sheet1!$AH$7:$AH$31,"<>퇴직")=0,"제외",IF(COUNTIFS(Sheet1!$AI$7:$AI$31,$A7,Sheet1!$AH$7:$AH$31,"<>임명 전",Sheet1!$AH$7:$AH$31,"<>퇴직",Sheet1!$AH$7:$AH$31,"<>-")>0,"참석","불참")) -> 제외
A8: 115 | B8: =IF(COUNTIFS(Sheet1!$AI$7:$AI$31,$A8,Sheet1!$H$7:$H$31,"<>임명 전",Sheet1!$H$7:$H$31,"<>퇴직")=0,"제외",IF(COUNTIFS(Sheet1!$AI$7:$AI$31,$A8,Sheet1!$H$7:$H$31,"<>임명 전",Sheet1!$H$7:$H$31,"<>퇴직",Sheet1!$H$7:$H$31,"<>-")>0,"참석","불참")) -> 참석 | C8: =IF(COUNTIFS(Sheet1!$AI$7:$AI$31,$A8,Sheet1!$I$7:$I$31,"<>임명 전",Sheet1!$I$7:$I$31,"<>퇴직")=0,"제외",IF(COUNTIFS(Sheet1!$AI$7:$AI$31,$A8,Sheet1!$I$7:$I$31,"<>임명 전",Sheet1!$I$7:$I$31,"<>퇴직",Sheet1!$I$7:$I$31,"<>-")>0,"참석","불참")) -> 불참 | D8: =IF(COUNTIFS(Sheet1!$AI$7:$AI$31,$A8,Sheet1!$J$7:$J$31,"<>임명 전",Sheet1!$J$7:$J$31,"<>퇴직")=0,"제외",IF(COUNTIFS(Sheet1!$AI$7:$AI$31,$A8,Sheet1!$J$7:$J$31,"<>임명 전",Sheet1!$J$7:$J$31,"<>퇴직",Sheet1!$J$7:$J$31,"<>-")>0,"참석","불참")) -> 참석 | E8: =IF(COUNTIFS(Sheet1!$AI$7:$AI$31,$A8,Sheet1!$K$7:$K$31,"<>임명 전",Sheet1!$K$7:$K$31,"<>퇴직")=0,"제외",IF(COUNTIFS(Sheet1!$AI$7:$AI$31,$A8,Sheet1!$K$7:$K$31,"<>임명 전",Sheet1!$K$7:$K$31,"<>퇴직",Sheet1!$K$7:$K$31,"<>-")>0,"참석","불참")) -> 참석 | F8: =IF(COUNTIFS(Sheet1!$AI$7:$AI$31,$A8,Sheet1!$L$7:$L$31,"<>임명 전",Sheet1!$L$7:$L$31,"<>퇴직")=0,"제외",IF(COUNTIFS(Sheet1!$AI$7:$AI$31,$A8,Sheet1!$L$7:$L$31,"<>임명 전",Sheet1!$L$7:$L$31,"<>퇴직",Sheet1!$L$7:$L$31,"<>-")>0,"참석","불참")) -> 제외 | G8: =IF(COUNTIFS(Sheet1!$AI$7:$AI$31,$A8,Sheet1!$M$7:$M$31,"<>임명 전",Sheet1!$M$7:$M$31,"<>퇴직")=0,"제외",IF(COUNTIFS(Sheet1!$AI$7:$AI$31,$A8,Sheet1!$M$7:$M$31,"<>임명 전",Sheet1!$M$7:$M$31,"<>퇴직",Sheet1!$M$7:$M$31,"<>-")>0,"참석","불참")) -> 제외 | H8: =IF(COUNTIFS(Sheet1!$AI$7:$AI$31,$A8,Sheet1!$N$7:$N$31,"<>임명 전",Sheet1!$N$7:$N$31,"<>퇴직")=0,"제외",IF(COUNTIFS(Sheet1!$AI$7:$AI$31,$A8,Sheet1!$N$7:$N$31,"<>임명 전",Sheet1!$N$7:$N$31,"<>퇴직",Sheet1!$N$7:$N$31,"<>-")>0,"참석","불참")) -> 참석 | I8: =IF(COUNTIFS(Sheet1!$AI$7:$AI$31,$A8,Sheet1!$O$7:$O$31,"<>임명 전",Sheet1!$O$7:$O$31,"<>퇴직")=0,"제외",IF(COUNTIFS(Sheet1!$AI$7:$AI$31,$A8,Sheet1!$O$7:$O$31,"<>임명 전",Sheet1!$O$7:$O$31,"<>퇴직",Sheet1!$O$7:$O$31,"<>-")>0,"참석","불참")) -> 제외 | J8: =IF(COUNTIFS(Sheet1!$AI$7:$AI$31,$A8,Sheet1!$P$7:$P$31,"<>임명 전",Sheet1!$P$7:$P$31,"<>퇴직")=0,"제외",IF(COUNTIFS(Sheet1!$AI$7:$AI$31,$A8,Sheet1!$P$7:$P$31,"<>임명 전",Sheet1!$P$7:$P$31,"<>퇴직",Sheet1!$P$7:$P$31,"<>-")>0,"참석","불참")) -> 제외 | K8: =IF(COUNTIFS(Sheet1!$AI$7:$AI$31,$A8,Sheet1!$Q$7:$Q$31,"<>임명 전",Sheet1!$Q$7:$Q$31,"<>퇴직")=0,"제외",IF(COUNTIFS(Sheet1!$AI$7:$AI$31,$A8,Sheet1!$Q$7:$Q$31,"<>임명 전",Sheet1!$Q$7:$Q$31,"<>퇴직",Sheet1!$Q$7:$Q$31,"<>-")>0,"참석","불참")) -> 참석 | L8: =IF(COUNTIFS(Sheet1!$AI$7:$AI$31,$A8,Sheet1!$R$7:$R$31,"<>임명 전",Sheet1!$R$7:$R$31,"<>퇴직")=0,"제외",IF(COUNTIFS(Sheet1!$AI$7:$AI$31,$A8,Sheet1!$R$7:$R$31,"<>임명 전",Sheet1!$R$7:$R$31,"<>퇴직",Sheet1!$R$7:$R$31,"<>-")>0,"참석","불참")) -> 제외 | M8: =IF(COUNTIFS(Sheet1!$AI$7:$AI$31,$A8,Sheet1!$S$7:$S$31,"<>임명 전",Sheet1!$S$7:$S$31,"<>퇴직")=0,"제외",IF(COUNTIFS(Sheet1!$AI$7:$AI$31,$A8,Sheet1!$S$7:$S$31,"<>임명 전",Sheet1!$S$7:$S$31,"<>퇴직",Sheet1!$S$7:$S$31,"<>-")>0,"참석","불참")) -> 제외 | N8: =IF(COUNTIFS(Sheet1!$AI$7:$AI$31,$A8,Sheet1!$T$7:$T$31,"<>임명 전",Sheet1!$T$7:$T$31,"<>퇴직")=0,"제외",IF(COUNTIFS(Sheet1!$AI$7:$AI$31,$A8,Sheet1!$T$7:$T$31,"<>임명 전",Sheet1!$T$7:$T$31,"<>퇴직",Sheet1!$T$7:$T$31,"<>-")>0,"참석","불참")) -> 제외 | O8: =IF(COUNTIFS(Sheet1!$AI$7:$AI$31,$A8,Sheet1!$U$7:$U$31,"<>임명 전",Sheet1!$U$7:$U$31,"<>퇴직")=0,"제외",IF(COUNTIFS(Sheet1!$AI$7:$AI$31,$A8,Sheet1!$U$7:$U$31,"<>임명 전",Sheet1!$U$7:$U$31,"<>퇴직",Sheet1!$U$7:$U$31,"<>-")>0,"참석","불참")) -> 불참 | P8: =IF(COUNTIFS(Sheet1!$AI$7:$AI$31,$A8,Sheet1!$V$7:$V$31,"<>임명 전",Sheet1!$V$7:$V$31,"<>퇴직")=0,"제외",IF(COUNTIFS(Sheet1!$AI$7:$AI$31,$A8,Sheet1!$V$7:$V$31,"<>임명 전",Sheet1!$V$7:$V$31,"<>퇴직",Sheet1!$V$7:$V$31,"<>-")>0,"참석","불참")) -> 참석 | Q8: =IF(COUNTIFS(Sheet1!$AI$7:$AI$31,$A8,Sheet1!$W$7:$W$31,"<>임명 전",Sheet1!$W$7:$W$31,"<>퇴직")=0,"제외",IF(COUNTIFS(Sheet1!$AI$7:$AI$31,$A8,Sheet1!$W$7:$W$31,"<>임명 전",Sheet1!$W$7:$W$31,"<>퇴직",Sheet1!$W$7:$W$31,"<>-")>0,"참석","불참")) -> 불참 | R8: =IF(COUNTIFS(Sheet1!$AI$7:$AI$31,$A8,Sheet1!$X$7:$X$31,"<>임명 전",Sheet1!$X$7:$X$31,"<>퇴직")=0,"제외",IF(COUNTIFS(Sheet1!$AI$7:$AI$31,$A8,Sheet1!$X$7:$X$31,"<>임명 전",Sheet1!$X$7:$X$31,"<>퇴직",Sheet1!$X$7:$X$31,"<>-")>0,"참석","불참")) -> 참석 | S8: =IF(COUNTIFS(Sheet1!$AI$7:$AI$31,$A8,Sheet1!$Y$7:$Y$31,"<>임명 전",Sheet1!$Y$7:$Y$31,"<>퇴직")=0,"제외",IF(COUNTIFS(Sheet1!$AI$7:$AI$31,$A8,Sheet1!$Y$7:$Y$31,"<>임명 전",Sheet1!$Y$7:$Y$31,"<>퇴직",Sheet1!$Y$7:$Y$31,"<>-")>0,"참석","불참")) -> 불참 | T8: =IF(COUNTIFS(Sheet1!$AI$7:$AI$31,$A8,Sheet1!$Z$7:$Z$31,"<>임명 전",Sheet1!$Z$7:$Z$31,"<>퇴직")=0,"제외",IF(COUNTIFS(Sheet1!$AI$7:$AI$31,$A8,Sheet1!$Z$7:$Z$31,"<>임명 전",Sheet1!$Z$7:$Z$31,"<>퇴직",Sheet1!$Z$7:$Z$31,"<>-")>0,"참석","불참")) -> 불참 | U8: =IF(COUNTIFS(Sheet1!$AI$7:$AI$31,$A8,Sheet1!$AA$7:$AA$31,"<>임명 전",Sheet1!$AA$7:$AA$31,"<>퇴직")=0,"제외",IF(COUNTIFS(Sheet1!$AI$7:$AI$31,$A8,Sheet1!$AA$7:$AA$31,"<>임명 전",Sheet1!$AA$7:$AA$31,"<>퇴직",Sheet1!$AA$7:$AA$31,"<>-")>0,"참석","불참")) -> 불참 | V8: =IF(COUNTIFS(Sheet1!$AI$7:$AI$31,$A8,Sheet1!$AB$7:$AB$31,"<>임명 전",Sheet1!$AB$7:$AB$31,"<>퇴직")=0,"제외",IF(COUNTIFS(Sheet1!$AI$7:$AI$31,$A8,Sheet1!$AB$7:$AB$31,"<>임명 전",Sheet1!$AB$7:$AB$31,"<>퇴직",Sheet1!$AB$7:$AB$31,"<>-")>0,"참석","불참")) -> 제외 | W8: =IF(COUNTIFS(Sheet1!$AI$7:$AI$31,$A8,Sheet1!$AC$7:$AC$31,"<>임명 전",Sheet1!$AC$7:$AC$31,"<>퇴직")=0,"제외",IF(COUNTIFS(Sheet1!$AI$7:$AI$31,$A8,Sheet1!$AC$7:$AC$31,"<>임명 전",Sheet1!$AC$7:$AC$31,"<>퇴직",Sheet1!$AC$7:$AC$31,"<>-")>0,"참석","불참")) -> 제외 | X8: =IF(COUNTIFS(Sheet1!$AI$7:$AI$31,$A8,Sheet1!$AD$7:$AD$31,"<>임명 전",Sheet1!$AD$7:$AD$31,"<>퇴직")=0,"제외",IF(COUNTIFS(Sheet1!$AI$7:$AI$31,$A8,Sheet1!$AD$7:$AD$31,"<>임명 전",Sheet1!$AD$7:$AD$31,"<>퇴직",Sheet1!$AD$7:$AD$31,"<>-")>0,"참석","불참")) -> 제외 | Y8: =IF(COUNTIFS(Sheet1!$AI$7:$AI$31,$A8,Sheet1!$AE$7:$AE$31,"<>임명 전",Sheet1!$AE$7:$AE$31,"<>퇴직")=0,"제외",IF(COUNTIFS(Sheet1!$AI$7:$AI$31,$A8,Sheet1!$AE$7:$AE$31,"<>임명 전",Sheet1!$AE$7:$AE$31,"<>퇴직",Sheet1!$AE$7:$AE$31,"<>-")>0,"참석","불참")) -> 제외 | Z8: =IF(COUNTIFS(Sheet1!$AI$7:$AI$31,$A8,Sheet1!$AF$7:$AF$31,"<>임명 전",Sheet1!$AF$7:$AF$31,"<>퇴직")=0,"제외",IF(COUNTIFS(Sheet1!$AI$7:$AI$31,$A8,Sheet1!$AF$7:$AF$31,"<>임명 전",Sheet1!$AF$7:$AF$31,"<>퇴직",Sheet1!$AF$7:$AF$31,"<>-")>0,"참석","불참")) -> 제외 | AA8: =IF(COUNTIFS(Sheet1!$AI$7:$AI$31,$A8,Sheet1!$AG$7:$AG$31,"<>임명 전",Sheet1!$AG$7:$AG$31,"<>퇴직")=0,"제외",IF(COUNTIFS(Sheet1!$AI$7:$AI$31,$A8,Sheet1!$AG$7:$AG$31,"<>임명 전",Sheet1!$AG$7:$AG$31,"<>퇴직",Sheet1!$AG$7:$AG$31,"<>-")>0,"참석","불참")) -> 제외 | AB8: =IF(COUNTIFS(Sheet1!$AI$7:$AI$31,$A8,Sheet1!$AH$7:$AH$31,"<>임명 전",Sheet1!$AH$7:$AH$31,"<>퇴직")=0,"제외",IF(COUNTIFS(Sheet1!$AI$7:$AI$31,$A8,Sheet1!$AH$7:$AH$31,"<>임명 전",Sheet1!$AH$7:$AH$31,"<>퇴직",Sheet1!$AH$7:$AH$31,"<>-")>0,"참석","불참")) -> 제외
